Workbook
Name DJDCB.BDCDYH: #REF!
Name DJDCB.BLC: #REF!
Name DJDCB.BZ_1: #REF!
Name DJDCB.DJ: #REF!
Name DJDCB.DJH: #REF!
Name DJDCB.DJH_1: #REF!
Name DJDCB.GMJJHYFLDM: #REF!
Name DJDCB.GYSYQQK: #REF!
Name DJDCB.JZZMJ: #REF!
Name DJDCB.PZMJ: #REF!
Name DJDCB.PZYTDM: #REF!
Name DJDCB.PZYTMC: #REF!
Name DJDCB.QDJG: #REF!
Name DJDCB.QLSDFS: #REF!
Name DJDCB.QSXZ: #REF!
Name DJDCB.QTSM: #REF!
Name DJDCB.SCMJ: #REF!
Name DJDCB.SCMJ_1: #REF!
Name DJDCB.SFQLR: #REF!
Name DJDCB.SFSJSYR: #REF!
Name DJDCB.SYQLX: #REF!
Name DJDCB.SZTFH: #REF!
Name DJDCB.TDQSLYZMCL: #REF!
Name DJDCB.TDSYQX: #REF!
Name DJDCB.TDSYZMC: #REF!
Name DJDCB.TDYTDM: #REF!
Name DJDCB.TDYTMC: #REF!
Name DJDCB.TDZL: #REF!
Name DJDCB.TDZL_1: #REF!
Name DJDCB.YBDJH: #REF!
Name DJDCB.ZDDM: #REF!
Name DJDCB.ZDSZB: #REF!
Name DJDCB.ZDSZD: #REF!
Name DJDCB.ZDSZN: #REF!
Name DJDCB.ZDSZX: #REF!
Name DJDCB.ZDZMJ: #REF!
Name GYMJFT.DYTDMJ: #REF!
Name GYMJFT.DZWDM: #REF!
Name GYMJFT.FTTDMJ: #REF!
Name GYMJFT.TDMJ: #REF!
Name GYMJFTNUM.DYTDMJSUM: #REF!
Name GYMJFTNUM.FTTDMJSUM: #REF!
Name GYMJFTNUM.GYNUM: #REF!
Name GYMJFTNUM.TDMJSUM: #REF!
Name JZBSB.CopyBegin: #REF!
Name JZBSB.CopyEnd: #REF!
Name JZBSB.JBZL1: #REF!
Name JZBSB.JBZL2: #REF!
Name JZBSB.JBZL3: #REF!
Name JZBSB.JBZL4: #REF!
Name JZBSB.JBZL5: #REF!
Name JZBSB.JZDH: #REF!
Name JZBSB.JZXCD: #REF!
Name JZBSB.JZXLB1: #REF!
Name JZBSB.JZXLB2: #REF!
Name JZBSB.JZXLB3: #REF!
Name JZBSB.JZXLB4: #REF!
Name JZBSB.JZXLB5: #REF!
Name JZBSB.JZXLB6: #REF!
Name JZBSB.JZXLB7: #REF!

Sheet 公示表
A1: 广东省林权类不动产登记公示表
A2: =+[1]权籍表!D2 -> 仁化县红山镇新白村新洞组集体经济组织
A3: 序号 | B3: 姓名 (单位名称) | C3: 林班 | D3: 小班 | E3: 林地 座落 | F3: 山名 小名 | G3: 面积 (亩) | H3: 四 至 | L3: 林种 | M3: 树种 | N3: 林龄 | O3: 株数 | P3: 林地权属 | S3: 林木权属 | V3: 原持证人
H4: 东 | I4: 南 | J4: 西 | K4: 北 | P4: 所有权者 | Q4: 使用权者 | R4: 年限 | S4: 所有权者 | T4: 使用权者 | U4: 年限
A5: =ROW()-4 -> 1 | B5: =+[1]权籍表!D3 -> 李永兵 | C5: =[1]森林林木调查表!I14 -> 7 | D5: =[1]森林林木调查表!W14 -> 10、11 | E5: =+[1]权籍表!B9 -> 仁化县红山镇新白村 | F5: =[1]森林林木调查表!I13 -> 深江大坪子 | G5: =+[1]权籍表!B29 -> 23.55 | H5: =+[1]权籍表!C22 -> 以半山为界 | I5: =+[1]权籍表!C23 -> 以窝为界 | J5: =+[1]权籍表!C24 -> 以窝口为界 | K5: =+[1]权籍表!C25 -> 以坑边上为界 | L5: =+[1]勘查登记卡!B20 -> 用材林 | M5: =[1]森林林木调查表!W18 -> 竹 | P5: =+[1]权籍表!D2 -> 仁化县红山镇新白村新洞组集体经济组织 | Q5: =+[1]权籍表!D3 -> 李永兵 | R5: =+[1]权籍表!B31 -> 2026年1月1日至2095年12月31日 | S5: =Q5 -> 李永兵 | T5: =Q5 -> 李永兵 | U5: =+[1]权籍表!B31 -> 2026年1月1日至2095年12月31日 | V5: 李石存
A6: =ROW()-4 -> 2 | B6: 李初胜 | C6: 8 | D6: 4 | F6: 斜坑子 | G6: 23.39 | H6: 以埂为界 | I6: 以坑为界 | J6: 以窝上至埂为界 | K6: 以天水为界 | L6: 用材林 | M6: 竹 | Q6: 李初胜 | S6: 李初胜 | T6: 李初胜 | V6: 李步苟、 李旺元
A7: =ROW()-4 -> 3 | B7: 李初胜 | C7: 8 | D7: 1 | F7: 枫树埂 | G7: 6.0 | H7: 以天水为界 | I7: 以田为界 | J7: 以窝为界 | K7: 以埂为界 | L7: 用材林 | M7: 竹 | Q7: 李初胜 | S7: 李初胜 | T7: 李初胜
A8: =ROW()-4 -> 4 | B8: 李初胜 | C8: 8 | D8: 5 | F8: 田垅坑 | G8: 4.28 | H8: 以窝为界 | I8: 以路为界 | J8: 以埂为界 | K8: 以天水为界 | L8: 用材林 | M8: 竹 | Q8: 李初胜 | S8: 李初胜 | T8: 李初胜
A9: =ROW()-4 -> 5 | B9: 李初胜 | C9: 8 | D9: 1 | F9: 元墩子 | G9: 16.26 | H9: 以埂为界 | I9: 以窝为界 | J9: 以埂为界 | K9: 以横路为界 | L9: 用材林 | M9: 竹 | Q9: 李初胜 | S9: 李初胜 | T9: 李初胜
A10: =ROW()-4 -> 6 | B10: 李初胜 | C10: 8 | D10: 3 | E10: 仁化县红山镇新白村 | F10: 流水窝 | G10: 8.6 | H10: 以埂为界 | I10: 以埂为界 | J10: 以埂为界 | K10: 以埂下至窝为界 | L10: 用材林 | M10: 竹 | P10: 仁化县红山镇新白村新洞组集体经济组织 | Q10: 李初胜 | R10: 长期 | S10: 李初胜 | T10: 李初胜 | U10: 长期 | V10: 李步苟、 李旺元
A11: =ROW()-4 -> 7 | B11: 李福明 | C11: 8 | D11: 6 | F11: 鸡公崎 | G11: 11.4 | H11: 以埂为界 | I11: 以埂顶为界 | J11: 以田为界 | K11: 以田为界 | L11: 用材林 | M11: 竹 | Q11: 李福明 | R11: 长期 | S11: 李福明 | T11: 李福明 | U11: 长期 | V11: 李田苟
A12: =ROW()-4 -> 8 | B12: 李福明 | C12: 8 | D12: 2 | F12: 松树岭 | G12: 8.57 | H12: 以田为界 | I12: 以田为界 | J12: 以大路为界 | K12: 以埂为界 | L12: 用材林 | M12: 竹 | Q12: 李福明 | R12: 长期 | S12: 李福明 | T12: 李福明 | U12: 长期
A13: =ROW()-4 -> 9 | B13: 李福明 | C13: 8 | D13: 2、3 | F13: 腊子湖 | G13: 16.64 | H13: 以埂为界 | I13: 以埂顶为界 | J13: 以子埂为界 | K13: 以坑为界 | L13: 用材林 | M13: 竹 | Q13: 李福明 | R13: 长期 | S13: 李福明 | T13: 李福明 | U13: 长期
A14: =ROW()-4 -> 10 | B14: 李福明 | C14: 8 | D14: 2、3 | F14: 善梨树窝 | G14: 9.26 | H14: 以窝为界 | I14: 以埂顶为界 | J14: 以子埂为界 | K14: 以窝边上为界 | L14: 用材林 | M14: 竹 | Q14: 李福明 | R14: 长期 | S14: 李福明 | T14: 李福明 | U14: 长期
A15: =ROW()-4 -> 11 | B15: 李福明 | C15: 8 | D15: 11 | F15: 结垅坑 | G15: 23.18 | H15: 以埂为界 | I15: 以埂为界 | J15: 以小埂为界 | K15: 以埂为界 | L15: 用材林 | M15: 竹 | Q15: 李福明 | R15: 2026年1月1日至2095年12月31日 | S15: 李福明 | T15: 李福明 | U15: 2026年1月1日至2095年12月31日
A16: =ROW()-4 -> 12 | B16: 李福明 | C16: 8 | D16: 4 | F16: 檀树埂 | G16: 12.64 | H16: 以埂为界 | I16: 以埂为界 | J16: 以窝上埂为界 | K16: 以埂为界 | L16: 用材林 | M16: 竹 | Q16: 李福明 | S16: 李福明 | T16: 李福明
A17: =ROW()-4 -> 13 | B17: 李福明 | C17: 8 | D17: 1 | E17: 仁化县红山镇新白村 | F17: 石巷子 | G17: 20.51 | H17: 以小埂为界 | I17: 以窝口为界 | J17: 以埂为界 | K17: 以天水为界 | L17: 用材林 | M17: 竹 | P17: 仁化县红山镇新白村新洞组集体经济组织 | Q17: 李福明 | S17: 李福明 | T17: 李福明 | V17: 李田苟
A18: =ROW()-4 -> 14 | B18: 李福明 | C18: 8 | D18: 2 | F18: 大石古边 | G18: 24.4 | H18: 以田为界 | I18: 以埂上路为界 | J18: 以路为界 | K18: 以坑为界 | L18: 用材林 | M18: 竹 | Q18: 李福明 | R18: 长期 | S18: 李福明 | T18: 李福明 | U18: 长期
A19: =ROW()-4 -> 15 | B19: 李国昌、李国新 | C19: 1 | D19: 7、13 | F19: 大杵下 | G19: 6.61 | H19: 以埂为界 | I19: 以天水为界 | J19: 以窝为界 | K19: 以窝垇为界 | L19: 用材林 | M19: 竹 | Q19: 李国昌、李国新 | R19: 2026年1月1日至2095年12月31日 | S19: 李国昌、李国新 | T19: 李国昌、李国新 | U19: 2026年1月1日至2095年12月31日 | V19: 李求养
A20: =ROW()-4 -> 16 | B20: 李国昌、李国新 | C20: 8 | D20: 1 | F20: 大竹山 | G20: 6.7 | H20: 以埂上至坑为界 | I20: 以田为界 | J20: 以坑为界 | K20: 以路为界 | L20: 用材林 | M20: 竹 | Q20: 李国昌、李国新 | S20: 李国昌、李国新 | T20: 李国昌、李国新
A21: =ROW()-4 -> 17 | B21: 李国昌、李国新 | C21: 1 | D21: 7、13 | F21: 荒田脚下 | G21: 14.07 | H21: 以路为界 | I21: 以窝为界 | J21: 以路为界 | K21: 以软垇为界 | L21: 用材林 | M21: 竹 | Q21: 李国昌、李国新 | S21: 李国昌、李国新 | T21: 李国昌、李国新
A22: =ROW()-4 -> 18 | B22: 李国昌、李国新 | C22: 8 | D22: 8、10 | F22: 企岭头 | G22: 31.86 | H22: 以路为界 | I22: 以路下至窝为界 | J22: 以坑窝为界 | K22: 以埂顶为界 | L22: 用材林 | M22: 竹 | Q22: 李国昌、李国新 | R22: 长期 | S22: 李国昌、李国新 | T22: 李国昌、李国新 | U22: 长期
A23: =ROW()-4 -> 19 | B23: 李国昌、李国新 | C23: 8 | D23: 10 | F23: 山头岭 | G23: 31.72 | H23: 以路为界 | I23: 以路为界 | J23: 以埂为界 | K23: 以埂、山顶为界 | L23: 用材林 | M23: 竹 | Q23: 李国昌、李国新 | R23: 2026年1月1日至2095年12月31日 | S23: 李国昌、李国新 | T23: 李国昌、李国新 | U23: 2026年1月1日至2095年12月31日
A24: =ROW()-4 -> 20 | B24: 李国昌、李国新 | C24: 1 | D24: 13 | E24: 仁化县红山镇新白村 | F24: 土轮窝 | G24: 25.96 | H24: 以埂下至窝为界 | I24: 以埂为界 | J24: 以埂下至横路为界 | K24: 以天水为界 | L24: 用材林 | M24: 竹 | P24: 仁化县红山镇新白村新洞组集体经济组织 | Q24: 李国昌、李国新 | R24: 2026年1月1日至2095年12月31日 | S24: 李国昌、李国新 | T24: 李国昌、李国新 | U24: 2026年1月1日至2095年12月31日 | V24: 李求养
A25: =ROW()-4 -> 21 | B25: 李国昌、李国新 | C25: 8 | D25: 7、8 | E25: 仁化县红山镇新白村 | F25: 乌寨子下 | G25: 13.68 | H25: 以窝为界 | I25: 以两水夹金为界 | J25: 以埂为界 | K25: 以横路为界 | L25: 用材林 | M25: 竹 | P25: 仁化县红山镇新白村新洞组集体经济组织 | Q25: 李国昌、李国新 | R25: 2026年1月1日至2095年12月31日 | S25: 李国昌、李国新 | T25: 李国昌、李国新 | U25: 2026年1月1日至2095年12月31日
A26: =ROW()-4 -> 22 | B26: 李国昌、李国新 | C26: 8 | D26: 8 | E26: 仁化县红山镇新白村 | F26: 杨梅树墩 | G26: 15.05 | H26: 以路埂为界 | I26: 以路为界 | J26: 以埂为界 | K26: 以天水岐顶为界 | L26: 用材林 | M26: 竹 | P26: 仁化县红山镇新白村新洞组集体经济组织 | Q26: 李国昌、李国新 | R26: 2026年1月1日至2095年12月31日 | S26: 李国昌、李国新 | T26: 李国昌、李国新 | U26: 2026年1月1日至2095年12月31日
A27: =ROW()-4 -> 23 | B27: 李国昌、李国新 | C27: 8 | D27: 10 | E27: 仁化县红山镇新白村 | F27: 大坳头 | G27: 9.64 | H27: 以埂田为界 | I27: 以埂为界 | J27: 以路为界 | K27: 以埂为界 | L27: 用材林 | M27: 竹 | P27: 仁化县红山镇新白村新洞组集体经济组织 | Q27: 李国昌、李国新 | R27: 2026年1月1日至2095年12月31日 | S27: 李国昌、李国新 | T27: 李国昌、李国新 | U27: 2026年1月1日至2095年12月31日
A28: =ROW()-4 -> 24 | B28: 李国蓝、李国金 | C28: 8 | D28: 5 | E28: 仁化县红山镇新白村 | F28: 大斜尾 | G28: 5.72 | H28: 以埂为界 | I28: 以窝口为界 | J28: 以埂顶为界 | K28: 以岐为界 | L28: 用材林 | M28: 竹 | P28: 仁化县红山镇新白村新洞组集体经济组织 | Q28: 李国蓝、李国金 | R28: 长期 | S28: 李国蓝、李国金 | T28: 李国蓝、李国金 | U28: 长期 | V28: 李本球
A29: =ROW()-4 -> 25 | B29: 李国蓝、李国金 | C29: 8 | D29: 5 | E29: 仁化县红山镇新白村 | F29: 食水垅 | G29: 3.88 | H29: 以坑为界 | I29: 以坑为界 | J29: 以阴埂为界 | K29: 以埂为界 | L29: 用材林 | M29: 竹 | P29: 仁化县红山镇新白村新洞组集体经济组织 | Q29: 李国蓝、李国金 | R29: 长期 | S29: 李国蓝、李国金 | T29: 李国蓝、李国金 | U29: 长期
A30: =ROW()-4 -> 26 | B30: 李国蓝、李国金 | C30: 8 | D30: 8 | E30: 仁化县红山镇新白村 | F30: 杨梅树墩 | G30: 22.01 | H30: 以埂为界 | I30: 以坑为界 | J30: 以坑为界 | K30: 以岐顶为界 | L30: 用材林 | M30: 竹 | P30: 仁化县红山镇新白村新洞组集体经济组织 | Q30: 李国蓝、李国金 | R30: 长期 | S30: 李国蓝、李国金 | T30: 李国蓝、李国金 | U30: 长期
A31: =ROW()-4 -> 27 | B31: 李国蓝、李国金 | C31: 8 | D31: 3 | E31: 仁化县红山镇新白村 | F31: 上水寨 | G31: 21.52 | H31: 以大路以上为界 | I31: 以坑为界 | J31: 以坑为界 | K31: 以埂为界 | L31: 用材林 | M31: 竹 | P31: 仁化县红山镇新白村新洞组集体经济组织 | Q31: 李国蓝、李国金 | R31: 长期 | S31: 李国蓝、李国金 | T31: 李国蓝、李国金 | U31: 长期
A32: =ROW()-4 -> 28 | B32: 李国蓝、李国金 | C32: 2、8 | D32: 4、10 | E32: 仁化县红山镇新白村 | F32: 大垇头 | G32: 30.64 | H32: 以埂为界 | I32: 以坑为界 | J32: 以垇为界 | K32: 以天水为界 | L32: 用材林 | M32: 竹 | P32: 仁化县红山镇新白村新洞组集体经济组织 | Q32: 李国蓝、李国金 | R32: 2026年1月1日至2095年12月31日 | S32: 李国蓝、李国金 | T32: 李国蓝、李国金 | U32: 2026年1月1日至2095年12月31日 | V32: 李本球
A33: =ROW()-4 -> 29 | B33: 李国蓝、李国金 | C33: 7 | D33: 10 | E33: 仁化县红山镇新白村 | F33: 大垅子 | G33: 2.02 | H33: 以坡为界 | I33: 以窝为界 | J33: 以坡为界 | K33: 以子埂为界 | L33: 用材林 | M33: 竹 | P33: 仁化县红山镇新白村新洞组集体经济组织 | Q33: 李国蓝、李国金 | S33: 李国蓝、李国金 | T33: 李国蓝、李国金
A34: =ROW()-4 -> 30 | B34: 李鸿 | C34: 8 | D34: 6、23 | E34: 仁化县红山镇新白村 | F34: 老鸦斜 | G34: 21.023 | H34: 以天水为界 | I34: 以细埂为界 | J34: 以坑为界 | K34: 以大埂为界 | L34: 用材林 | M34: 竹 | P34: 仁化县红山镇新白村新洞组集体经济组织 | Q34: 李鸿 | R34: 长期 | S34: 李鸿 | T34: 李鸿 | U34: 长期 | V34: 李荣亮
A35: =ROW()-4 -> 31 | B35: 李鸿 | C35: 8 | D35: 5 | E35: 仁化县红山镇新白村 | F35: 石埂尾子 | G35: 8.49 | H35: 以为界 | I35: 以为界 | J35: 以为界 | K35: 以为界 | L35: 用材林 | M35: 竹 | P35: 仁化县红山镇新白村新洞组集体经济组织 | Q35: 李鸿 | R35: 长期 | S35: 李鸿 | T35: 李鸿 | U35: 长期
A36: =ROW()-4 -> 32 | B36: 李接文 | C36: 7 | D36: 8 | E36: 仁化县红山镇新白村 | F36: 上深江 | G36: 6.27 | H36: 以路为界 | I36: 以埂为界 | J36: 以横路为界 | K36: 以埂为界 | L36: 用材林 | M36: 竹 | P36: 仁化县红山镇新白村新洞组集体经济组织 | Q36: 李接文 | R36: 2026年1月1日至2095年12月31日 | S36: 李接文 | T36: 李接文 | U36: 2026年1月1日至 2095年12月31日 | V36: 李接文
A37: =ROW()-4 -> 33 | B37: 李接文 | C37: 7 | D37: 8 | E37: 仁化县红山镇新白村 | F37: 乌寨子下 | G37: 4.31 | H37: 以岐顶为界 | I37: 以埂为界 | J37: 以坑为界 | K37: 以埂为界 | L37: 用材林 | M37: 竹 | P37: 仁化县红山镇新白村新洞组集体经济组织 | Q37: 李接文 | R37: 长期 | S37: 李接文 | T37: 李接文 | U37: 长期
A38: =ROW()-4 -> 34 | B38: 李接文 | C38: 8 | D38: 2 | E38: 仁化县红山镇新白村 | F38: 坝潭子 | G38: 6.52 | H38: 以阴埂为界 | I38: 以田面为界 | J38: 以阴埂为界 | K38: 以岐顶为界 | L38: 用材林 | M38: 竹 | P38: 仁化县红山镇新白村新洞组集体经济组织 | Q38: 李接文 | R38: 长期 | S38: 李接文 | T38: 李接文 | U38: 长期
A39: =ROW()-4 -> 35 | B39: 李锦华 | C39: 8 | D39: 5 | E39: 仁化县红山镇新白村 | F39: 贼佬坳 | G39: 7.76 | H39: 以岐为界 | I39: 以坑路为界 | J39: 以岐为界 | K39: 以岐为界 | L39: 用材林 | M39: 竹 | P39: 仁化县红山镇新白村新洞组集体经济组织 | Q39: 李锦华 | R39: 长期 | S39: 李锦华 | T39: 李锦华 | U39: 长期 | V39: 李玉明
A40: =ROW()-4 -> 36 | B40: 李锦华 | C40: 8 | D40: 3、4 | E40: 仁化县红山镇新白村 | F40: 溜水窝 | G40: 76.12 | H40: 以埂为界 | I40: 以坑口断为界 | J40: 以岐为界 | K40: 以路岐顶为界 | L40: 用材林 | M40: 竹 | P40: 仁化县红山镇新白村新洞组集体经济组织 | Q40: 李锦华 | R40: 长期 | S40: 李锦华 | T40: 李锦华 | U40: 长期
A41: =ROW()-4 -> 37 | B41: 李林桓 | C41: 3 | D41: 3 | E41: 仁化县红山镇新白村 | F41: 大木山 | G41: 38.55 | H41: 以坑为界 | I41: 以去老窑湖老路为界 | J41: 以窝尾阴岐为界 | K41: 以窝为界 | M41: 针阔混 | P41: 仁化县红山镇新白村新洞组集体经济组织 | Q41: 李林桓 | R41: 长期 | S41: 李林桓 | T41: 李林桓 | U41: 长期 | V41: 李为琦
A42: =ROW()-4 -> 38 | B42: 李林桓 | C42: 8 | D42: 8 | E42: 仁化县红山镇新白村 | F42: 结垅坑 | G42: 11.91 | H42: 以月王路为界 | I42: 以岐为界 | J42: 以岐为界 | K42: 以窝为界 | M42: 毛竹 | P42: 仁化县红山镇新白村新洞组集体经济组织 | Q42: 李林桓 | R42: 长期 | S42: 李林桓 | T42: 李林桓 | U42: 长期
A43: =ROW()-4 -> 39 | B43: 李林桓 | C43: 7 | D43: 8 | E43: 仁化县红山镇新白村 | F43: 上深江 | G43: 24.68 | H43: 以瀑布上两边埂为界 | I43: 以子埂为界 | J43: 以坑为界 | K43: 以子埂为界 | M43: 毛竹 | P43: 仁化县红山镇新白村新洞组集体经济组织 | Q43: 李林桓 | R43: 从2026年1月1日至2095年12月31日 | S43: 李林桓 | T43: 李林桓 | U43: 从2026年1月1日 至2095年12月31日
A44: =ROW()-4 -> 40 | B44: 李林桓 | C44: 8 | D44: 4 | E44: 仁化县红山镇新白村 | F44: 下墩坵 | G44: 9.36 | H44: 以水田为界 | I44: 以水田为界 | J44: 以埂为界 | K44: 以荒岭岐为界 | M44: 杉树 | P44: 仁化县红山镇新白村新洞组集体经济组织 | Q44: 李林桓 | R44: 长期 | S44: 李林桓 | T44: 李林桓 | U44: 长期
A45: =ROW()-4 -> 41 | B45: 李林桓 | C45: 8 | D45: 4 | E45: 仁化县红山镇新白村 | F45: 下墩坵 | G45: 6.39 | H45: 以埂为界 | I45: 以水田为界 | J45: 以水田为界 | K45: 以荒岭岐为界 | M45: 毛竹 | P45: 仁化县红山镇新白村新洞组集体经济组织 | Q45: 李林桓 | R45: 长期 | S45: 李林桓 | T45: 李林桓 | U45: 长期 | V45: 李为琦
A46: =ROW()-4 -> 42 | B46: 李林桓 | C46: 8 | D46: 12 | E46: 仁化县红山镇新白村 | F46: 坳子背 | G46: 2.65 | H46: 以田为界 | I46: 以埂为界 | J46: 以沟为界 | K46: 以田为界 | L46: 用材林 | M46: 毛竹 | P46: 仁化县红山镇新白村新洞组集体经济组织 | Q46: 李林桓 | R46: 长期 | S46: 李林桓 | T46: 李林桓 | U46: 长期
A47: =ROW()-4 -> 43 | B47: 李林桓 | C47: 8 | D47: 8 | E47: 仁化县红山镇新白村 | F47: 芳洞子 | G47: 3.59 | H47: 以田为界 | I47: 以路为界 | J47: 以田为界 | K47: 以坳窝田为界 | M47: 毛竹 | P47: 仁化县红山镇新白村新洞组集体经济组织 | Q47: 李林桓 | R47: 长期 | S47: 李林桓 | T47: 李林桓 | U47: 长期
A48: =ROW()-4 -> 44 | B48: 李林桓 | C48: 8 | D48: 2、3 | E48: 仁化县红山镇新白村 | F48: 腊子湖 | G48: 26.54 | H48: 以大石古岐至天水为界 | I48: 以半山为界 | J48: 以坑至细埂至天水为界 | K48: 以天水为界 | M48: 杉树 | P48: 仁化县红山镇新白村新洞组集体经济组织 | Q48: 李林桓 | R48: 长期 | S48: 李林桓 | T48: 李林桓 | U48: 长期
A49: =ROW()-4 -> 45 | B49: 李林桓 | C49: 8 | D49: 2、3 | E49: 仁化县红山镇新白村 | F49: 腊子湖 | G49: 12.15 | H49: 以大石古岐至天水为界 | I49: 以坑为界 | J49: 以坑至细埂至天水为界 | K49: 以半山为界 | M49: 毛竹 | P49: 仁化县红山镇新白村新洞组集体经济组织 | Q49: 李林桓 | R49: 长期 | S49: 李林桓 | T49: 李林桓 | U49: 长期
A50: =ROW()-4 -> 46 | B50: 李林桓 | C50: 8 | D50: 7 | E50: 仁化县红山镇新白村 | F50: 桥子坑路面 | G50: 5.01 | H50: 以公路为界 | I50: 以公路至窝阴埂为界 | J50: 以天水为界 | K50: 以岐至天水为界 | M50: 毛竹 | P50: 仁化县红山镇新白村新洞组集体经济组织 | Q50: 李林桓 | R50: 长期 | S50: 李林桓 | T50: 李林桓 | U50: 长期
A51: =ROW()-4 -> 47 | B51: 李林桓 | C51: 7 | D51: 3 | E51: 仁化县红山镇新白村 | F51: 三叉坳 | G51: 17.28 | H51: 以埂窝口为界 | I51: 以墩底下为界 | J51: 以岐为界 | K51: 以墩埂为界 | M51: 毛竹 | P51: 仁化县红山镇新白村新洞组集体经济组织 | Q51: 李林桓 | R51: 长期 | S51: 李林桓 | T51: 李林桓 | U51: 长期
A52: =ROW()-4 -> 48 | B52: 李林桓 | C52: 7 | D52: 10 | E52: 仁化县红山镇新白村 | F52: 深江坳下大垅子 | G52: 30.3 | H52: 以小窝子为界 | I52: 以岐到窝至坳以埂至荒田为界 | J52: 以荒田横路为界 | K52: 以天水为界 | M52: 杉树 | P52: 仁化县红山镇新白村新洞组集体经济组织 | Q52: 李林桓 | R52: 长期 | S52: 李林桓 | T52: 李林桓 | U52: 长期 | V52: 李为琦
A53: =ROW()-4 -> 49 | B53: 李林桓 | C53: 7 | D53: 10 | E53: 仁化县红山镇新白村 | F53: 深江坳下大垅子 | G53: 6.02 | H53: 以天水高岐为界 | I53: 以岐为界 | J53: 以小窝子为界 | K53: 以天水为界 | M53: 毛竹 | P53: 仁化县红山镇新白村新洞组集体经济组织 | Q53: 李林桓 | R53: 长期 | S53: 李林桓 | T53: 李林桓 | U53: 长期
A54: =ROW()-4 -> 50 | B54: 李林桓 | C54: 8 | D54: 7 | E54: 仁化县红山镇新白村 | F54: 乌寨子下河杵窝 | G54: 26.98 | H54: 以田为界 | I54: 以岐为界 | J54: 以岐为界 | K54: 以埂至窝口、车路为界 | M54: 毛竹 | P54: 仁化县红山镇新白村新洞组集体经济组织 | Q54: 李林桓 | R54: 长期 | S54: 李林桓 | T54: 李林桓 | U54: 长期
A55: =ROW()-4 -> 51 | B55: 李林桓 | C55: 8 | D55: 2 | E55: 仁化县红山镇新白村 | F55: 窑窝子 | G55: 6.58 | H55: 以坌窝到窝口为界 | I55: 以埂到窝口为界 | J55: 以埂为界 | K55: 以老横路为界 | M55: 毛竹 | P55: 仁化县红山镇新白村新洞组集体经济组织 | Q55: 李林桓 | R55: 长期 | S55: 李林桓 | T55: 李林桓 | U55: 长期
A56: =ROW()-4 -> 52 | B56: 李满养 | C56: 8 | D56: 1 | E56: 仁化县红山镇新白村 | F56: 带帽石 | G56: 6.83 | H56: 以路为界 | I56: 以路石埂为界 | J56: 以天水为界 | K56: 以埂为界 | L56: 用材林 | M56: 毛竹 | P56: 仁化县红山镇新白村新洞组集体经济组织 | Q56: 李满养 | R56: 长期 | S56: 李满养 | T56: 李满养 | U56: 长期 | V56: 李洪养
A57: =ROW()-4 -> 53 | B57: 李满养 | C57: 8 | D57: 1 | E57: 仁化县红山镇新白村 | F57: 园墩子 | G57: 33.8 | H57: 以石古埂为界 | I57: 以埂为界 | J57: 以横路为界 | K57: 以路埂为界 | L57: 用材林 | M57: 毛竹 | P57: 仁化县红山镇新白村新洞组集体经济组织 | Q57: 李满养 | R57: 长期 | S57: 李满养 | T57: 李满养 | U57: 长期
A58: =ROW()-4 -> 54 | B58: 李满养 | C58: 8 | D58: 3 | E58: 仁化县红山镇新白村 | F58: 大石古背 | G58: 18.75 | H58: 以埂为界 | I58: 以高岐为界 | J58: 以埂为界 | K58: 以窝为界 | L58: 用材林 | M58: 毛竹 | P58: 仁化县红山镇新白村新洞组集体经济组织 | Q58: 李满养 | R58: 长期 | S58: 李满养 | T58: 李满养 | U58: 长期
A59: =ROW()-4 -> 55 | B59: 李满养 | C59: 8 | D59: 6 | E59: 仁化县红山镇新白村 | F59: 内洞坳 | G59: 14.65 | H59: 以埂为界 | I59: 以阴埂为界 | J59: 以田为界 | K59: 以埂为界 | L59: 用材林 | M59: 毛竹 | P59: 仁化县红山镇新白村新洞组集体经济组织 | Q59: 李满养 | R59: 长期 | S59: 李满养 | T59: 李满养 | U59: 长期
A60: =ROW()-4 -> 56 | B60: 李美林 | C60: 8 | D60: 1 | E60: 仁化县红山镇新白村 | F60: 大竹山 | G60: 9.07 | H60: 以岐为界 | I60: 以窝为界 | J60: 以窝为界 | K60: 以岐为界 | L60: 用材林 | M60: 竹 | P60: 仁化县红山镇新白村新洞组集体经济组织 | Q60: 李美林 | R60: 长期 | S60: 李美林 | T60: 李美林 | U60: 长期 | V60: 李新富
A61: =ROW()-4 -> 57 | B61: 李美林 | C61: 8 | D61: 8 | E61: 仁化县红山镇新白村 | F61: 结垅坑 | G61: 7.42 | H61: 以田为界 | I61: 以窝为界 | J61: 以窝为界 | K61: 以埂为界 | L61: 用材林 | M61: 竹 | P61: 仁化县红山镇新白村新洞组集体经济组织 | Q61: 李美林 | R61: 长期 | S61: 李美林 | T61: 李美林 | U61: 长期
A62: =ROW()-4 -> 58 | B62: 李美林 | C62: 8 | D62: 7 | E62: 仁化县红山镇新白村 | F62: 桥子坑 | G62: 16.17 | H62: 以岐为界 | I62: 以子埂为界 | J62: 以窝为界 | K62: 以窝为界 | L62: 用材林 | M62: 竹 | P62: 仁化县红山镇新白村新洞组集体经济组织 | Q62: 李美林 | R62: 长期 | S62: 李美林 | T62: 李美林 | U62: 长期
A63: =ROW()-4 -> 59 | B63: 李美林 | C63: 7 | D63: 3 | E63: 仁化县红山镇新白村 | F63: 山叉坳 | G63: 13.81 | H63: 以埂为界 | I63: 以子埂为界 | J63: 以窝为界 | K63: 以埂为界 | L63: 用材林 | M63: 竹 | P63: 仁化县红山镇新白村新洞组集体经济组织 | Q63: 李美林 | R63: 2026年1月1日至2095年12月31日 | S63: 李美林 | T63: 李美林 | U63: 2026年1月1日至2095年12月31日
A64: =ROW()-4 -> 60 | B64: 李美林 | C64: 7 | D64: 8、10 | E64: 仁化县红山镇新白村 | F64: 深江坳下大垅子 | G64: 51.41 | H64: 以天水为界 | I64: 以路下至窝为界 | J64: 以横路为界 | K64: 以窝为界 | L64: 用材林 | M64: 竹 | P64: 仁化县红山镇新白村新洞组集体经济组织 | Q64: 李美林 | R64: 2026年1月1日至2095年12月31日 | S64: 李美林 | T64: 李美林 | U64: 2026年1月1日至2095年12月31日
A65: =ROW()-4 -> 61 | B65: 李美林 | C65: 8 | D65: 7 | E65: 仁化县红山镇新白村 | F65: 乌寨子下荷杵窝 | G65: 18.42 | H65: 以窝为界 | I65: 以横路为界 | J65: 以埂为界 | K65: 以埂顶为界 | L65: 用材林 | M65: 竹 | P65: 仁化县红山镇新白村新洞组集体经济组织 | Q65: 李美林 | R65: 2026年1月1日至2095年12月31日 | S65: 李美林 | T65: 李美林 | U65: 2026年1月1日至2095年12月31日
A66: =ROW()-4 -> 62 | B66: 李美林 | C66: 8 | D66: 4 | E66: 仁化县红山镇新白村 | F66: 下墩坵 | G66: 7.96 | H66: 以天水为界 | I66: 以窝口为界 | J66: 以窝为界 | K66: 以窝为界 | L66: 用材林 | M66: 竹 | P66: 仁化县红山镇新白村新洞组集体经济组织 | Q66: 李美林 | R66: 2026年1月1日至2095年12月31日 | S66: 李美林 | T66: 李美林 | U66: 2026年1月1日至2095年12月31日
A67: =ROW()-4 -> 63 | B67: 李楠 | C67: 8 | D67: 2、3 | E67: 仁化县红山镇新白村 | F67: 腊树坳 | G67: 10.31 | H67: 以垇、天水为界 | I67: 以坑为界 | J67: 以窝为界 | K67: 以埂为界 | L67: 用材林 | M67: 竹 | P67: 仁化县红山镇新白村新洞组集体经济组织 | Q67: 李楠 | R67: 2026年1月1日至2095年12月31日 | S67: 李楠 | T67: 李楠 | U67: 2026年1月1日至2095年12月31日 | V67: 李荣亮
A68: =ROW()-4 -> 64 | B68: 李楠 | C68: 8 | D68: 1、2 | E68: 仁化县红山镇新白村 | F68: 辣子湖 | G68: 38.73 | H68: 以埂为界 | I68: 以阴埂为界 | J68: 以埂为界 | K68: 以天水为界 | L68: 用材林 | M68: 竹 | P68: 仁化县红山镇新白村新洞组集体经济组织 | Q68: 李楠 | S68: 李楠 | T68: 李楠
A69: =ROW()-4 -> 65 | B69: 李楠 | C69: 8 | D69: 1 | E69: 仁化县红山镇新白村 | F69: 松树头下 | G69: 13.53 | H69: 以埂为界 | I69: 以田为界 | J69: 以阴埂为界 | K69: 以天水为界 | L69: 用材林 | M69: 竹 | P69: 仁化县红山镇新白村新洞组集体经济组织 | Q69: 李楠 | R69: 长期 | S69: 李楠 | T69: 李楠 | U69: 长期
A70: =ROW()-4 -> 66 | B70: 李楠 | C70: 8 | D70: 1 | E70: 仁化县红山镇新白村 | F70: 大窝子 | G70: 52.95 | H70: 以阴埂下至窝为界 | I70: 以埂为界 | J70: 以埂天水为界 | K70: 以埂为界 | L70: 用材林 | M70: 竹 | P70: 仁化县红山镇新白村新洞组集体经济组织 | Q70: 李楠 | R70: 长期 | S70: 李楠 | T70: 李楠 | U70: 长期
A71: =ROW()-4 -> 67 | B71: 李楠 | C71: 8 | D71: 1 | E71: 仁化县红山镇新白村 | F71: 铜锣斜 | G71: 23.42 | H71: 以窝口为界 | I71: 以埂为界 | J71: 以天水为界 | K71: 以窝上至路沿埂上为界 | L71: 用材林 | M71: 竹 | P71: 仁化县红山镇新白村新洞组集体经济组织 | Q71: 李楠 | R71: 2026年1月1日至2095年12月31日 | S71: 李楠 | T71: 李楠 | U71: 2026年1月1日至2095年12月31日
A72: =ROW()-4 -> 68 | B72: 李桥养 | C72: 8 | D72: 4、6 | E72: 仁化县红山镇新白村 | F72: 斜坑子 | G72: 17.7 | H72: 以埂为界 | I72: 以窝为界 | J72: 以埂为界 | K72: 以窝两边为界 | L72: 用材林 | M72: 竹 | P72: 仁化县红山镇新白村新洞组集体经济组织 | Q72: 李桥养 | R72: 2026年1月1日至2095年12月31日 | S72: 李桥养 | T72: 李桥养 | U72: 2026年1月1日至2095年12月31日 | V72: 李桥养
A73: =ROW()-4 -> 69 | B73: 李桥养 | C73: 8 | D73: 4 | E73: 仁化县红山镇新白村 | F73: 斜坑子 | G73: 7.28 | H73: 以埂为界 | I73: 以窝为界 | J73: 以埂为界 | K73: 以埂为界 | L73: 用材林 | M73: 竹 | P73: 仁化县红山镇新白村新洞组集体经济组织 | Q73: 李桥养 | S73: 李桥养 | T73: 李桥养
A74: =ROW()-4 -> 70 | B74: 李新荣 | C74: 8 | D74: 5 | E74: 仁化县红山镇新白村 | F74: 食水垅 | G74: 7.18 | H74: 以沟为界 | I74: 以埂为界 | J74: 以岐为界 | K74: 以岭顶为界 | L74: 用材林 | M74: 竹 | P74: 仁化县红山镇新白村新洞组集体经济组织 | Q74: 李新荣 | R74: 长期 | S74: 李新荣 | T74: 李新荣 | U74: 长期 | V74: 李基明
A75: =ROW()-4 -> 71 | B75: 李新荣 | C75: 8 | D75: 3 | E75: 仁化县红山镇新白村 | F75: 马尾竹坳 | G75: 19.51 | H75: 以坑为界 | I75: 以小坑为界 | J75: 以岐为界 | K75: 以岐顶为界 | L75: 用材林 | M75: 竹 | P75: 仁化县红山镇新白村新洞组集体经济组织 | Q75: 李新荣 | R75: 长期 | S75: 李新荣 | T75: 李新荣 | U75: 长期 | V75: 李集明
A76: =ROW()-4 -> 72 | B76: 李新荣 | C76: 8 | D76: 6 | E76: 仁化县红山镇新白村 | F76: 老鸦斜 | G76: 38.98 | H76: 以坑为界 | I76: 以窝坑为界 | J76: 以埂为界 | K76: 以天水为界 | L76: 用材林 | M76: 杉、竹 | P76: 仁化县红山镇新白村新洞组集体经济组织 | Q76: 李新荣 | R76: 长期 | S76: 李新荣 | T76: 李新荣 | U76: 长期
A77: =ROW()-4 -> 73 | B77: 李新荣 | C77: 8 | D77: 2 | E77: 仁化县红山镇新白村 | F77: 太观前 | G77: 6.26 | H77: 以阴窝为界 | I77: 以田为界 | J77: 以阴埂为界 | K77: 以天水为界 | L77: 用材林 | M77: 竹 | P77: 仁化县红山镇新白村新洞组集体经济组织 | Q77: 李新荣 | R77: 2026年1月1日至2095年12月31日 | S77: 李新荣 | T77: 李新荣 | U77: 2026年1月1日至2095年12月31日
A78: =ROW()-4 -> 74 | B78: 李学良、李庙林、李梅春 | C78: 1 | D78: 8、12 | E78: 仁化县红山镇新白村 | F78: 新田三十岭墩背、茶杵垅 | G78: 17.78 | H78: 以埂下至坑为界 | I78: 以埂为界 | J78: 以埂为界 | K78: 以老路为界 | L78: 用材林 | M78: 竹 | P78: 仁化县红山镇新白村新洞组集体经济组织 | Q78: 李学良、李庙林、李梅春 | R78: 2026年1月1日至2095年12月31日 | S78: 李学良、李庙林、李梅春 | T78: 李学良、李庙林、李梅春 | U78: 2026年1月1日至2095年12月31日 | V78: 李学如
A79: =ROW()-4 -> 75 | B79: 李学良、李庙林、李梅春 | C79: 1 | D79: 12 | E79: 仁化县红山镇新白村 | F79: 新田赤竹坪纸厂背 | G79: 51.0 | H79: 以坑上至天水为界 | I79: 以细嶂岐顶为界 | J79: 以岐顶倒水为界 | K79: 以埂为界 | L79: 用材林 | M79: 竹 | P79: 仁化县红山镇新白村新洞组集体经济组织
A80: =ROW()-4 -> 76 | B80: 李学良、李庙林、李梅春 | C80: 1 | D80: 7 | E80: 仁化县红山镇新白村 | F80: 新田大杵下 | G80: 7.97 | H80: 以阴埂为界 | I80: 以埂天水为界 | J80: 以高岐为界 | K80: 以坑为界 | L80: 用材林 | M80: 竹 | P80: 仁化县红山镇新白村新洞组集体经济组织 | R80: 2026年1月1日至2095年12月31日 | S80: 李学良、李庙林、李梅春 | T80: 李学良、李庙林、李梅春 | U80: 2026年1月1日至2095年12月31日
A81: =ROW()-4 -> 77 | B81: 李叶明 | C81: 8 | D81: 5、15 | E81: 仁化县红山镇新白村 | F81: 大斜子 | G81: 4.35 | H81: 以为界 | I81: 以为界 | J81: 以为界 | K81: 以为界 | L81: 用材林 | M81: 竹 | P81: 仁化县红山镇新白村新洞组集体经济组织 | Q81: 李叶明 | R81: 2026年1月1日至2095年12月31日 | S81: 李叶明 | T81: 李叶明 | U81: 2026年1月1日至2095年12月31日 | V81: 李叶明
A82: =ROW()-4 -> 78 | B82: 李叶明 | C82: 8 | D82: 3 | E82: 仁化县红山镇新白村 | F82: 马尾竹垇 | G82: 27.25 | H82: 以坑窝为界 | I82: 以小埂为界 | J82: 以窝上至横路平至埂上天水为界 | K82: 以天水为界 | L82: 用材林 | M82: 竹 | P82: 仁化县红山镇新白村新洞组集体经济组织 | Q82: 李叶明 | S82: 李叶明 | T82: 李叶明
A83: =ROW()-4 -> 79 | B83: 李叶明 | C83: 7 | D83: 8 | E83: 仁化县红山镇新白村 | F83: 深江莲麻杵下 | G83: 3.63 | H83: 以田角坑为界 | I83: 以大坑为界 | J83: 以埂为界 | K83: 以田为界 | L83: 用材林 | M83: 竹 | P83: 仁化县红山镇新白村新洞组集体经济组织 | Q83: 李叶明 | S83: 李叶明 | T83: 李叶明
A84: =ROW()-4 -> 80 | B84: 李叶明 | C84: 8 | D84: 5 | E84: 仁化县红山镇新白村 | F84: 芳洞埂子 | G84: 3.75 | H84: 以为界 | I84: 以为界 | J84: 以为界 | K84: 以为界 | L84: 用材林 | M84: 竹 | P84: 仁化县红山镇新白村新洞组集体经济组织 | Q84: 李叶明 | R84: 长期 | S84: 李叶明 | T84: 李叶明 | U84: 长期
A85: =ROW()-4 -> 81 | B85: 李永双 | C85: 7 | D85: 8 | E85: 仁化县红山镇新白村 | F85: 深江 | G85: 71.77 | H85: 以埂为界 | I85: 以埂为界 | J85: 以埂为界 | K85: 以埂为界 | L85: 用材林 | M85: 竹 | P85: 仁化县红山镇新白村新洞组集体经济组织 | Q85: 李永双 | R85: 2026年1月1日至2095年12月31日 | S85: 李永双 | T85: 李永双 | U85: 2026年1月1日至2095年12月31日 | V85: 李月松
A86: =ROW()-4 -> 82 | B86: 李永双 | C86: 8 | D86: 5 | E86: 仁化县红山镇新白村 | F86: 金竹窝 | G86: 9.77 | H86: 以坑口为界 | I86: 以埂为界 | J86: 以埂为界 | K86: 以埂为界 | L86: 用材林 | M86: 竹 | P86: 仁化县红山镇新白村新洞组集体经济组织 | Q86: 李永双 | R86: 长期 | S86: 李永双 | T86: 李永双 | U86: 长期
A87: =ROW()-4 -> 83 | B87: 李永双 | C87: 8 | D87: 5 | E87: 仁化县红山镇新白村 | F87: 芳洞埂子 | G87: 8.9 | H87: 以坑为界 | I87: 以田为界 | J87: 以埂天水为界 | K87: 以半窝尾为界 | L87: 用材林 | M87: 竹 | P87: 仁化县红山镇新白村新洞组集体经济组织 | Q87: 李永双 | R87: 长期 | S87: 李永双 | T87: 李永双 | U87: 长期
A88: =ROW()-4 -> 84 | B88: 李永双 | C88: 8 | D88: 5 | E88: 仁化县红山镇新白村 | F88: 叶子窝 | G88: 18.14 | H88: 以窝口阴埂为界 | I88: 以长埂天水为界 | J88: 以长埂为界 | K88: 以埂顶为界 | L88: 用材林 | M88: 竹 | P88: 仁化县红山镇新白村新洞组集体经济组织 | Q88: 李永双 | R88: 长期 | S88: 李永双 | T88: 李永双 | U88: 长期
A89: =ROW()-4 -> 85 | B89: 李月养 | C89: 8 | D89: 5 | E89: 仁化县红山镇新白村 | F89: 贼老坳 | G89: 18.59 | H89: 以埂为界 | I89: 以窝为界 | J89: 以埂为界 | K89: 以天水为界 | L89: 用材林 | M89: 竹 | P89: 仁化县红山镇新白村新洞组集体经济组织 | Q89: 李月养 | R89: 2026年1月1日至2095年12月31日 | S89: 李月养 | T89: 李月养 | U89: 2026年1月1日至2095年12月31日 | V89: 李月养
A90: =ROW()-4 -> 86 | B90: 李月养 | C90: 8 | D90: 1 | E90: 仁化县红山镇新白村 | F90: 白石坑席草塘右边 | G90: 50.17 | H90: 以埂为界 | I90: 以埂为界 | J90: 以高埂为界 | K90: 以埂为界 | L90: 用材林 | M90: 竹 | P90: 仁化县红山镇新白村新洞组集体经济组织 | Q90: 李月养 | R90: 长期 | S90: 李月养 | T90: 李月养 | U90: 长期 | V90: 李湴养
A91: =ROW()-4 -> 87 | B91: 李月养 | C91: 8 | D91: 12 | E91: 仁化县红山镇新白村 | F91: 高桥窝 | G91: 8.6 | H91: 以埂为界 | I91: 以坑为界 | J91: 以田为界 | K91: 以田窝为界 | L91: 用材林 | M91: 竹 | P91: 仁化县红山镇新白村新洞组集体经济组织 | Q91: 李月养 | R91: 长期 | S91: 李月养 | T91: 李月养 | U91: 长期 | V91: 李月养
A92: =ROW()-4 -> 88 | B92: 李月养 | C92: 8 | D92: 2 | E92: 仁化县红山镇新白村 | F92: 大杉树窝 | G92: 4.39 | H92: 以坑为界 | I92: 以窝边为界 | J92: 以窝为界 | K92: 以横路为界 | L92: 用材林 | M92: 竹 | P92: 仁化县红山镇新白村新洞组集体经济组织 | Q92: 李月养 | R92: 长期 | S92: 李月养 | T92: 李月养 | U92: 长期 | V92: 李帮胜
A93: =ROW()-4 -> 89 | B93: 李月养 | C93: 8 | D93: 2 | E93: 仁化县红山镇新白村 | F93: 锄头埂 | G93: 6.54 | H93: 以窝边为界 | I93: 以田为界 | J93: 以田为界 | K93: 以埂为界 | L93: 用材林 | M93: 竹 | P93: 仁化县红山镇新白村新洞组集体经济组织 | Q93: 李月养 | R93: 长期 | S93: 李月养 | T93: 李月养 | U93: 长期 | V93: 李月养
A94: =ROW()-4 -> 90 | B94: 李月养 | C94: 8 | D94: 1 | E94: 仁化县红山镇新白村 | F94: 白石坑 | G94: 12.64 | H94: 以埂为界 | I94: 以小路为界 | J94: 以埂为界 | K94: 以高埂为界 | L94: 用材林 | M94: 竹 | P94: 仁化县红山镇新白村新洞组集体经济组织 | Q94: 李月养 | R94: 长期 | S94: 李月养 | T94: 李月养 | U94: 长期 | V94: 李帮胜
A95: =ROW()-4 -> 91 | B95: 李月养 | C95: 8 | D95: 1 | E95: 仁化县红山镇新白村 | F95: 白石坑 | G95: 32.62 | H95: 以小路埂为界 | I95: 以埂垇为界 | J95: 以横路为界 | K95: 以埂为界 | L95: 用材林 | M95: 竹 | P95: 仁化县红山镇新白村新洞组集体经济组织 | Q95: 李月养 | R95: 2026年1月1日至2095年12月31日 | S95: 李月养 | T95: 李月养 | U95: 2026年1月1日至2095年12月31日 | V95: 李月养
A96: =ROW()-4 -> 92 | B96: 李月养 | C96: 8 | D96: 9 | E96: 仁化县红山镇新白村 | F96: 回形地 | G96: 12 | H96: 以埂为界 | I96: 以田为界 | J96: 以田为界 | K96: 以田为界 | L96: 用材林 | M96: 竹 | P96: 仁化县红山镇新白村新洞组集体经济组织 | Q96: 李月养 | R96: 2026年1月1日至2095年12月31日 | S96: 李月养 | T96: 李月养 | U96: 2026年1月1日至2095年12月31日 | V96: 李帮胜
A97: =ROW()-4 -> 93 | B97: 李月养 | C97: 8 | D97: 5 | E97: 仁化县红山镇新白村 | F97: 食水垅 | G97: 6.98 | H97: 以窝为界 | I97: 以窝为界 | J97: 以顶为界 | K97: 以埂为界 | L97: 用材林 | M97: 竹 | P97: 仁化县红山镇新白村新洞组集体经济组织 | Q97: 李月养 | R97: 2026年1月1日至2095年12月31日 | S97: 李月养 | T97: 李月养 | U97: 2026年1月1日至2095年12月31日 | V97: 李帮胜
A98: =ROW()-4 -> 94 | B98: 李月养 | C98: 8 | D98: 6 | E98: 仁化县红山镇新白村 | F98: 斜坑子 | G98: 5.18 | H98: 以窝为界 | I98: 以埂天水为界 | J98: 以埂为界 | K98: 以坑为界 | L98: 用材林 | M98: 竹 | P98: 仁化县红山镇新白村新洞组集体经济组织 | Q98: 李月养 | R98: 2026年1月1日至2095年12月31日 | S98: 李月养 | T98: 李月养 | U98: 2026年1月1日至2095年12月31日 | V98: 李月养
A100: 以上 宗山林,经工作组与有关人员实地勘查后,现予以公示,实际面积以登记为准，如有不同意见或需要修正,请于公示之日起十五个工作日
A101: (即公示结束日202 年 月 日)内向仁化县不动产登记中心书面反映,逾期此公示即具有法律效力,联系电话:6391162
...
