Workbook
Name DJDCB.BDCDYH: #REF!
Name DJDCB.BLC: #REF!
Name DJDCB.BZ_1: #REF!
Name DJDCB.DJ: #REF!
Name DJDCB.DJH: #REF!
Name DJDCB.DJH_1: #REF!
Name DJDCB.GMJJHYFLDM: #REF!
Name DJDCB.GYSYQQK: #REF!
Name DJDCB.JZZMJ: #REF!
Name DJDCB.PZMJ: #REF!
Name DJDCB.PZYTDM: #REF!
Name DJDCB.PZYTMC: #REF!
Name DJDCB.QDJG: #REF!
Name DJDCB.QLSDFS: #REF!
Name DJDCB.QSXZ: #REF!
Name DJDCB.QTSM: #REF!
Name DJDCB.SCMJ: #REF!
Name DJDCB.SCMJ_1: #REF!
Name DJDCB.SFQLR: #REF!
Name DJDCB.SFSJSYR: #REF!
Name DJDCB.SYQLX: #REF!
Name DJDCB.SZTFH: #REF!
Name DJDCB.TDQSLYZMCL: #REF!
Name DJDCB.TDSYQX: #REF!
Name DJDCB.TDSYZMC: #REF!
Name DJDCB.TDYTDM: #REF!
Name DJDCB.TDYTMC: #REF!
Name DJDCB.TDZL: #REF!
Name DJDCB.TDZL_1: #REF!
Name DJDCB.YBDJH: #REF!
Name DJDCB.ZDDM: #REF!
Name DJDCB.ZDSZB: #REF!
Name DJDCB.ZDSZD: #REF!
Name DJDCB.ZDSZN: #REF!
Name DJDCB.ZDSZX: #REF!
Name DJDCB.ZDZMJ: #REF!
Name GYMJFT.DYTDMJ: #REF!
Name GYMJFT.DZWDM: #REF!
Name GYMJFT.FTTDMJ: #REF!
Name GYMJFT.TDMJ: #REF!
Name GYMJFTNUM.DYTDMJSUM: #REF!
Name GYMJFTNUM.FTTDMJSUM: #REF!
Name GYMJFTNUM.GYNUM: #REF!
Name GYMJFTNUM.TDMJSUM: #REF!
Name JZBSB.CopyBegin: #REF!
Name JZBSB.CopyEnd: #REF!
Name JZBSB.JBZL1: #REF!
Name JZBSB.JBZL2: #REF!
Name JZBSB.JBZL3: #REF!
Name JZBSB.JBZL4: #REF!
Name JZBSB.JBZL5: #REF!
Name JZBSB.JZDH: #REF!
Name JZBSB.JZXCD: #REF!
Name JZBSB.JZXLB1: #REF!
Name JZBSB.JZXLB2: #REF!
Name JZBSB.JZXLB3: #REF!
Name JZBSB.JZXLB4: #REF!
Name JZBSB.JZXLB5: #REF!
Name JZBSB.JZXLB6: #REF!
Name JZBSB.JZXLB7: #REF!

Sheet 公示表
A1: 广东省林权类不动产登记公示表
A2: =+[1]权籍表!D2 -> 仁化县红山镇新白村新洞组集体经济组织
A3: 序号 | B3: 姓名 (单位名称) | C3: 林班 | D3: 小班 | E3: 林地 座落 | F3: 山名 小名 | G3: 面积 (亩) | H3: 四 至 | L3: 林种 | M3: 树种 | N3: 林龄 | O3: 株数 | P3: 林地权属 | S3: 林木权属 | V3: 原持证人
H4: 东 | I4: 南 | J4: 西 | K4: 北 | P4: 所有权者 | Q4: 使用权者 | R4: 年限 | S4: 所有权者 | T4: 使用权者 | U4: 年限
A5: =ROW()-4 -> 1 | B5: =+[1]权籍表!D3 -> 李永兵 | C5: =[1]森林林木调查表!I14 -> 7 | D5: =[1]森林林木调查表!W14 -> 10、11 | E5: =+[1]权籍表!B9 -> 仁化县红山镇新白村 | F5: =[1]森林林木调查表!I13 -> 深江大坪子 | G5: =+[1]权籍表!B29 -> 23.55 | H5: =+[1]权籍表!C22 -> 以半山为界 | I5: =+[1]权籍表!C23 -> 以窝为界 | J5: =+[1]权籍表!C24 -> 以窝口为界 | K5: =+[1]权籍表!C25 -> 以坑边上为界 | L5: =+[1]勘查登记卡!B20 -> 用材林 | M5: =[1]森林林木调查表!W18 -> 竹 | P5: =+[1]权籍表!D2 -> 仁化县红山镇新白村新洞组集体经济组织 | Q5: =+[1]权籍表!D3 -> 李永兵 | R5: =+[1]权籍表!B31 -> 2026年1月1日至2095年12月31日 | S5: =Q5 -> 李永兵 | T5: =Q5 -> 李永兵 | U5: =+[1]权籍表!B31 -> 2026年1月1日至2095年12月31日 | V5: 李石存
A6: =ROW()-4 -> 2 | B6: 李初胜 | C6: 8 | D6: 4 | F6: 斜坑子 | G6: 23.39 | H6: 以埂为界 | I6: 以坑为界 | J6: 以窝上至埂为界 | K6: 以天水为界 | L6: 用材林 | M6: 竹 | Q6: 李初胜 | S6: 李初胜 | T6: 李初胜 | V6: 李步苟、 李旺元
A7: =ROW()-4 -> 3 | B7: 李初胜 | C7: 8 | D7: 1 | F7: 枫树埂 | G7: 6.0 | H7: 以天水为界 | I7: 以田为界 | J7: 以窝为界 | K7: 以埂为界 | L7: 用材林 | M7: 竹 | Q7: 李初胜 | S7: 李初胜 | T7: 李初胜
A8: =ROW()-4 -> 4 | B8: 李初胜 | C8: 8 | D8: 5 | F8: 田垅坑 | G8: 4.28 | H8: 以窝为界 | I8: 以路为界 | J8: 以埂为界 | K8: 以天水为界 | L8: 用材林 | M8: 竹 | Q8: 李初胜 | S8: 李初胜 | T8: 李初胜
A9: =ROW()-4 -> 5 | B9: 李初胜 | C9: 8 | D9: 1 | F9: 元墩子 | G9: 16.26 | H9: 以埂为界 | I9: 以窝为界 | J9: 以埂为界 | K9: 以横路为界 | L9: 用材林 | M9: 竹 | Q9: 李初胜 | S9: 李初胜 | T9: 李初胜
A10: =ROW()-4 -> 6 | B10: 李初胜 | C10: 8 | D10: 3 | E10: 仁化县红山镇新白村 | F10: 流水窝 | G10: 8.6 | H10: 以埂为界 | I10: 以埂为界 | J10: 以埂为界 | K10: 以埂下至窝为界 | L10: 用材林 | M10: 竹 | P10: 仁化县红山镇新白村新洞组集体经济组织 | Q10: 李初胜 | R10: 长期 | S10: 李初胜 | T10: 李初胜 | U10: 长期 | V10: 李步苟、 李旺元
A11: =ROW()-4 -> 7 | B11: 李福明 | C11: 8 | D11: 6 | F11: 鸡公崎 | G11: 11.4 | H11: 以埂为界 | I11: 以埂顶为界 | J11: 以田为界 | K11: 以田为界 | L11: 用材林 | M11: 竹 | Q11: 李福明 | R11: 长期 | S11: 李福明 | T11: 李福明 | U11: 长期 | V11: 李田苟
A12: =ROW()-4 -> 8 | B12: 李福明 | C12: 8 | D12: 2 | F12: 松树岭 | G12: 8.57 | H12: 以田为界 | I12: 以田为界 | J12: 以大路为界 | K12: 以埂为界 | L12: 用材林 | M12: 竹 | Q12: 李福明 | R12: 长期 | S12: 李福明 | T12: 李福明 | U12: 长期
A13: =ROW()-4 -> 9 | B13: 李福明 | C13: 8 | D13: 2、3 | F13: 腊子湖 | G13: 16.64 | H13: 以埂为界 | I13: 以埂顶为界 | J13: 以子埂为界 | K13: 以坑为界 | L13: 用材林 | M13: 竹 | Q13: 李福明 | R13: 长期 | S13: 李福明 | T13: 李福明 | U13: 长期
A14: =ROW()-4 -> 10 | B14: 李福明 | C14: 8 | D14: 2、3 | F14: 善梨树窝 | G14: 9.26 | H14: 以窝为界 | I14: 以埂顶为界 | J14: 以子埂为界 | K14: 以窝边上为界 | L14: 用材林 | M14: 竹 | Q14: 李福明 | R14: 长期 | S14: 李福明 | T14: 李福明 | U14: 长期
A15: =ROW()-4 -> 11 | B15: 李福明 | C15: 8 | D15: 11 | F15: 结垅坑 | G15: 23.18 | H15: 以埂为界 | I15: 以埂为界 | J15: 以小埂为界 | K15: 以埂为界 | L15: 用材林 | M15: 竹 | Q15: 李福明 | R15: 2026年1月1日至2095年12月31日 | S15: 李福明 | T15: 李福明 | U15: 2026年1月1日至2095年12月31日
A16: =ROW()-4 -> 12 | B16: 李福明 | C16: 8 | D16: 4 | F16: 檀树埂 | G16: 12.64 | H16: 以埂为界 | I16: 以埂为界 | J16: 以窝上埂为界 | K16: 以埂为界 | L16: 用材林 | M16: 竹 | Q16: 李福明 | S16: 李福明 | T16: 李福明
A17: =ROW()-4 -> 13 | B17: 李福明 | C17: 8 | D17: 1 | E17: 仁化县红山镇新白村 | F17: 石巷子 | G17: 20.51 | H17: 以小埂为界 | I17: 以窝口为界 | J17: 以埂为界 | K17: 以天水为界 | L17: 用材林 | M17: 竹 | P17: 仁化县红山镇新白村新洞组集体经济组织 | Q17: 李福明 | S17: 李福明 | T17: 李福明 | V17: 李田苟
A18: =ROW()-4 -> 14 | B18: 李福明 | C18: 8 | D18: 2 | F18: 大石古边 | G18: 24.4 | H18: 以田为界 | I18: 以埂上路为界 | J18: 以路为界 | K18: 以坑为界 | L18: 用材林 | M18: 竹 | Q18: 李福明 | R18: 长期 | S18: 李福明 | T18: 李福明 | U18: 长期
A19: =ROW()-4 -> 15 | B19: 李国昌、李国新 | C19: 1 | D19: 7、13 | F19: 大杵下 | G19: 6.61 | H19: 以埂为界 | I19: 以天水为界 | J19: 以窝为界 | K19: 以窝垇为界 | L19: 用材林 | M19: 竹 | Q19: 李国昌、李国新 | R19: 2026年1月1日至2095年12月31日 | S19: 李国昌、李国新 | T19: 李国昌、李国新 | U19: 2026年1月1日至2095年12月31日 | V19: 李求养
A20: =ROW()-4 -> 16 | B20: 李国昌、李国新 | C20: 8 | D20: 1 | F20: 大竹山 | G20: 6.7 | H20: 以埂上至坑为界 | I20: 以田为界 | J20: 以坑为界 | K20: 以路为界 | L20: 用材林 | M20: 竹 | Q20: 李国昌、李国新 | S20: 李国昌、李国新 | T20: 李国昌、李国新
A21: =ROW()-4 -> 17 | B21: 李国昌、李国新 | C21: 1 | D21: 7、13 | F21: 荒田脚下 | G21: 14.07 | H21: 以路为界 | I21: 以窝为界 | J21: 以路为界 | K21: 以软垇为界 | L21: 用材林 | M21: 竹 | Q21: 李国昌、李国新 | S21: 李国昌、李国新 | T21: 李国昌、李国新
A22: =ROW()-4 -> 18 | B22: 李国昌、李国新 | C22: 8 | D22: 8、10 | F22: 企岭头 | G22: 31.86 | H22: 以路为界 | I22: 以路下至窝为界 | J22: 以坑窝为界 | K22: 以埂顶为界 | L22: 用材林 | M22: 竹 | Q22: 李国昌、李国新 | R22: 长期 | S22: 李国昌、李国新 | T22: 李国昌、李国新 | U22: 长期
A23: =ROW()-4 -> 19 | B23: 李国昌、李国新 | C23: 8 | D23: 10 | F23: 山头岭 | G23: 31.72 | H23: 以路为界 | I23: 以路为界 | J23: 以埂为界 | K23: 以埂、山顶为界 | L23: 用材林 | M23: 竹 | Q23: 李国昌、李国新 | R23: 2026年1月1日至2095年12月31日 | S23: 李国昌、李国新 | T23: 李国昌、李国新 | U23: 2026年1月1日至2095年12月31日
A24: =ROW()-4 -> 20 | B24: 李国昌、李国新 | C24: 1 | D24: 13 | E24: 仁化县红山镇新白村 | F24: 土轮窝 | G24: 25.96 | H24: 以埂下至窝为界 | I24: 以埂为界 | J24: 以埂下至横路为界 | K24: 以天水为界 | L24: 用材林 | M24: 竹 | P24: 仁化县红山镇新白村新洞组集体经济组织 | Q24: 李国昌、李国新 | R24: 2026年1月1日至2095年12月31日 | S24: 李国昌、李国新 | T24: 李国昌、李国新 | U24: 2026年1月1日至2095年12月31日 | V24: 李求养
A25: =ROW()-4 -> 21 | B25: 李国昌、李国新 | C25: 8 | D25: 7、8 | E25: 仁化县红山镇新白村 | F25: 乌寨子下 | G25: 13.68 | H25: 以窝为界 | I25: 以两水夹金为界 | J25: 以埂为界 | K25: 以横路为界 | L25: 用材林 | M25: 竹 | P25: 仁化县红山镇新白村新洞组集体经济组织 | Q25: 李国昌、李国新 | R25: 2026年1月1日至2095年12月31日 | S25: 李国昌、李国新 | T25: 李国昌、李国新 | U25: 2026年1月1日至2095年12月31日
A26: =ROW()-4 -> 22 | B26: 李国昌、李国新 | C26: 8 | D26: 8 | E26: 仁化县红山镇新白村 | F26: 杨梅树墩 | G26: 15.05 | H26: 以路埂为界 | I26: 以路为界 | J26: 以埂为界 | K26: 以天水岐顶为界 | L26: 用材林 | M26: 竹 | P26: 仁化县红山镇新白村新洞组集体经济组织 | Q26: 李国昌、李国新 | R26: 2026年1月1日至2095年12月31日 | S26: 李国昌、李国新 | T26: 李国昌、李国新 | U26: 2026年1月1日至2095年12月31日
A27: =ROW()-4 -> 23 | B27: 李国昌、李国新 | C27: 8 | D27: 10 | E27: 仁化县红山镇新白村 | F27: 大坳头 | G27: 9.64 | H27: 以埂田为界 | I27: 以埂为界 | J27: 以路为界 | K27: 以埂为界 | L27: 用材林 | M27: 竹 | P27: 仁化县红山镇新白村新洞组集体经济组织 | Q27: 李国昌、李国新 | R27: 2026年1月1日至2095年12月31日 | S27: 李国昌、李国新 | T27: 李国昌、李国新 | U27: 2026年1月1日至2095年12月31日
A28: =ROW()-4 -> 24 | B28: 李国蓝、李国金 | C28: 8 | D28: 5 | E28: 仁化县红山镇新白村 | F28: 大斜尾 | G28: 5.72 | H28: 以埂为界 | I28: 以窝口为界 | J28: 以埂顶为界 | K28: 以岐为界 | L28: 用材林 | M28: 竹 | P28: 仁化县红山镇新白村新洞组集体经济组织 | Q28: 李国蓝、李国金 | R28: 长期 | S28: 李国蓝、李国金 | T28: 李国蓝、李国金 | U28: 长期 | V28: 李本球
A29: =ROW()-4 -> 25 | B29: 李国蓝、李国金 | C29: 8 | D29: 5 | E29: 仁化县红山镇新白村 | F29: 食水垅 | G29: 3.88 | H29: 以坑为界 | I29: 以坑为界 | J29: 以阴埂为界 | K29: 以埂为界 | L29: 用材林 | M29: 竹 | P29: 仁化县红山镇新白村新洞组集体经济组织 | Q29: 李国蓝、李国金 | R29: 长期 | S29: 李国蓝、李国金 | T29: 李国蓝、李国金 | U29: 长期
A30: =ROW()-4 -> 26 | B30: 李国蓝、李国金 | C30: 8 | D30: 8 | E30: 仁化县红山镇新白村 | F30: 杨梅树墩 | G30: 22.01 | H30: 以埂为界 | I30: 以坑为界 | J30: 以坑为界 | K30: 以岐顶为界 | L30: 用材林 | M30: 竹 | P30: 仁化县红山镇新白村新洞组集体经济组织 | Q30: 李国蓝、李国金 | R30: 长期 | S30: 李国蓝、李国金 | T30: 李国蓝、李国金 | U30: 长期
A31: =ROW()-4 -> 27 | B31: 李国蓝、李国金 | C31: 8 | D31: 3 | E31: 仁化县红山镇新白村 | F31: 上水寨 | G31: 21.52 | H31: 以大路以上为界 | I31: 以坑为界 | J31: 以坑为界 | K31: 以埂为界 | L31: 用材林 | M31: 竹 | P31: 仁化县红山镇新白村新洞组集体经济组织 | Q31: 李国蓝、李国金 | R31: 长期 | S31: 李国蓝、李国金 | T31: 李国蓝、李国金 | U31: 长期
A32: =ROW()-4 -> 28 | B32: 李国蓝、李国金 | C32: 2、8 | D32: 4、10 | E32: 仁化县红山镇新白村 | F32: 大垇头 | G32: 30.64 | H32: 以埂为界 | I32: 以坑为界 | J32: 以垇为界 | K32: 以天水为界 | L32: 用材林 | M32: 竹 | P32: 仁化县红山镇新白村新洞组集体经济组织 | Q32: 李国蓝、李国金 | R32: 2026年1月1日至2095年12月31日 | S32: 李国蓝、李国金 | T32: 李国蓝、李国金 | U32: 2026年1月1日至2095年12月31日 | V32: 李本球
A33: =ROW()-4 -> 29 | B33: 李国蓝、李国金 | C33: 7 | D33: 10 | E33: 仁化县红山镇新白村 | F33: 大垅子 | G33: 2.02 | H33: 以坡为界 | I33: 以窝为界 | J33: 以坡为界 | K33: 以子埂为界 | L33: 用材林 | M33: 竹 | P33: 仁化县红山镇新白村新洞组集体经济组织 | Q33: 李国蓝、李国金 | S33: 李国蓝、李国金 | T33: 李国蓝、李国金
A34: =ROW()-4 -> 30 | B34: 李鸿 | C34: 8 | D34: 6、23 | E34: 仁化县红山镇新白村 | F34: 老鸦斜 | G34: 21.023 | H34: 以天水为界 | I34: 以细埂为界 | J34: 以坑为界 | K34: 以大埂为界 | L34: 用材林 | M34: 竹 | P34: 仁化县红山镇新白村新洞组集体经济组织 | Q34: 李鸿 | R34: 长期 | S34: 李鸿 | T34: 李鸿 | U34: 长期 | V34: 李荣亮
A35: =ROW()-4 -> 31 | B35: 李鸿 | C35: 8 | D35: 5 | E35: 仁化县红山镇新白村 | F35: 石埂尾子 | G35: 8.49 | H35: 以为界 | I35: 以为界 | J35: 以为界 | K35: 以为界 | L35: 用材林 | M35: 竹 | P35: 仁化县红山镇新白村新洞组集体经济组织 | Q35: 李鸿 | R35: 长期 | S35: 李鸿 | T35: 李鸿 | U35: 长期
A36: =ROW()-4 -> 32 | B36: 李接文 | C36: 7 | D36: 8 | E36: 仁化县红山镇新白村 | F36: 上深江 | G36: 6.27 | H36: 以路为界 | I36: 以埂为界 | J36: 以横路为界 | K36: 以埂为界 | L36: 用材林 | M36: 竹 | P36: 仁化县红山镇新白村新洞组集体经济组织 | Q36: 李接文 | R36: 2026年1月1日至2095年12月31日 | S36: 李接文 | T36: 李接文 | U36: 2026年1月1日至 2095年12月31日 | V36: 李接文
A37: =ROW()-4 -> 33 | B37: 李接文 | C37: 7 | D37: 8 | E37: 仁化县红山镇新白村 | F37: 乌寨子下 | G37: 4.31 | H37: 以岐顶为界 | I37: 以埂为界 | J37: 以坑为界 | K37: 以埂为界 | L37: 用材林 | M37: 竹 | P37: 仁化县红山镇新白村新洞组集体经济组织 | Q37: 李接文 | R37: 长期 | S37: 李接文 | T37: 李接文 | U37: 长期
A38: =ROW()-4 -> 34 | B38: 李接文 | C38: 8 | D38: 2 | E38: 仁化县红山镇新白村 | F38: 坝潭子 | G38: 6.52 | H38: 以阴埂为界 | I38: 以田面为界 | J38: 以阴埂为界 | K38: 以岐顶为界 | L38: 用材林 | M38: 竹 | P38: 仁化县红山镇新白村新洞组集体经济组织 | Q38: 李接文 | R38: 长期 | S38: 李接文 | T38: 李接文 | U38: 长期
A39: =ROW()-4 -> 35 | B39: 李锦华 | C39: 8 | D39: 5 | E39: 仁化县红山镇新白村 | F39: 贼佬坳 | G39: 7.76 | H39: 以岐为界 | I39: 以坑路为界 | J39: 以岐为界 | K39: 以岐为界 | L39: 用材林 | M39: 竹 | P39: 仁化县红山镇新白村新洞组集体经济组织 | Q39: 李锦华 | R39: 长期 | S39: 李锦华 | T39: 李锦华 | U39: 长期 | V39: 李玉明
A40: =ROW()-4 -> 36 | B40: 李锦华 | C40: 8 | D40: 3、4 | E40: 仁化县红山镇新白村 | F40: 溜水窝 | G40: 76.12 | H40: 以埂为界 | I40: 以坑口断为界 | J40: 以岐为界 | K40: 以路岐顶为界 | L40: 用材林 | M40: 竹 | P40: 仁化县红山镇新白村新洞组集体经济组织 | Q40: 李锦华 | R40: 长期 | S40: 李锦华 | T40: 李锦华 | U40: 长期
...
