Workbook
Name DJDCB.BDCDYH: #REF!
Name DJDCB.BZ_1: #REF!
Name 半岭组: #REF!
Name DJDCB.BLC: #REF!
Name DJDCB.DJ: #REF!

Sheet 半岭组
A1: 广东省林权类不动产登记公示表
A2: =+[1]权籍表!D2 -> 仁化县红山镇新白村半岭组集体经济组织
A3: 序号 | B3: 姓名 (单位名称) | C3: 林班 | D3: 小班 | E3: 林地 座落 | F3: 山名 小名 | G3: 面积 (亩) | H3: 四 至 | L3: 林种 | M3: 树种 | N3: 林龄 | O3: 株数 | P3: 林地权属 | S3: 林木权属 | V3: 原持证人
H4: 东 | I4: 南 | J4: 西 | K4: 北 | P4: 所有权者 | Q4: 使用权者 | R4: 年限 | S4: 所有权者 | T4: 使用权者 | U4: 年限
A5: 1 | B5: =+[1]权籍表!D3 -> 李邦聪 | C5: =[1]森林林木调查表!I14 -> 1 | D5: =[1]森林林木调查表!W14 -> 1 | E5: =+[1]权籍表!B9 -> 仁化县红山镇新白村 | F5: =[1]森林林木调查表!I13 -> 鬼垇 | G5: =+[1]权籍表!B29 -> 25.41 | H5: 以丹竹坑队半岭横路过为界 | I5: 以埂为界 | J5: 以天水为界 | K5: 以埂为界 | L5: =+[1]勘查登记卡!B20 -> 用材林 | M5: =[1]森林林木调查表!W18 -> 竹 | P5: =+[1]权籍表!D2 -> 仁化县红山镇新白村半岭组集体经济组织 | Q5: =+[1]权籍表!D3 -> 李邦聪 | R5: =+[1]权籍表!B31 -> 2026年1月1日至2095年12月31日 | S5: =Q5 -> 李邦聪 | T5: =Q5 -> 李邦聪 | U5: =+[1]权籍表!B31 -> 2026年1月1日至2095年12月31日 | V5: 李为顺
A6: 2 | B6: =[2]权籍表!$D$3 -> 李邦聪 | C6: =[2]森林林木调查表!$I$14 -> 1 | D6: =[2]森林林木调查表!$W$14 -> 6 | E6: =[2]权籍表!$B$9 -> 仁化县红山镇新白村 | F6: =[2]森林林木调查表!$I$13 -> 石湾子 | G6: =[2]权籍表!$B$29 -> 7.24 | H6: 以窝为界 | I6: 以埂为界 | J6: 以天水为界 | K6: 以埂为界 | L6: =[2]勘查登记卡!$B$20 -> 用材林 | M6: =[2]勘查登记卡!$B$21 -> 竹 | P6: =[2]权籍表!$D$2 -> 仁化县红山镇新白村半岭组集体经济组织 | Q6: =[2]权籍表!$D$3 -> 李邦聪 | R6: =[2]权籍表!$B$31 -> 长期 | S6: =[2]权籍表!$D$3 -> 李邦聪 | T6: =[2]权籍表!$D$3 -> 李邦聪 | U6: =[2]权籍表!$B$31 -> 长期 | V6: 李为顺
A7: 3 | B7: 李邦富 | C7: 1 | D7: 3 | E7: 仁化县红山镇新白村 | F7: 酒饼柑窝子 | G7: 12.52 | H7: 以埂为界 | I7: 以坑为界 | J7: 以公路为界 | K7: 以埂为界 | L7: 用材林 | M7: 竹 | P7: 仁化县红山镇新白村半岭组集体经济组织 | Q7: 李邦富 | R7: 长期 | S7: 李邦富 | T7: 李邦富 | U7: 长期 | V7: 李为顺
A8: 4 | B8: 李邦富 | C8: 1 | D8: 6 | E8: 仁化县红山镇新白村 | F8: 去吊干窝垇坵背 | G8: 3.93 | H8: 以小窝为界 | I8: 以埂顶为界 | J8: 以埂为界 | K8: 以田为界 | L8: 用材林 | M8: 竹 | P8: 仁化县红山镇新白村半岭组集体经济组织 | Q8: 李邦富 | R8: 长期 | S8: 李邦富 | T8: 李邦富 | U8: 长期 | V8: 李为顺
A9: 5 | B9: 李邦富 | C9: 1 | D9: 11 | E9: 仁化县红山镇新白村 | F9: 石浆湖垅子 | G9: 12.55 | H9: 以窝为界 | I9: 以小埂为界 | J9: 以天水为界 | K9: 以埂为界 | L9: 用材林 | M9: 竹 | P9: 仁化县红山镇新白村半岭组集体经济组织 | Q9: 李邦富 | R9: 2026年1月1日至2095年12月31日 | S9: 李邦富 | T9: 李邦富 | U9: 2026年1月1日至2095年12月31日 | V9: 李为顺
A10: 6 | B10: 李邦富 | C10: 1 | D10: 4 | E10: 仁化县红山镇新白村 | F10: 酒饼柑窝子 | G10: 9.32 | H10: 以公路为界 | I10: 以坑为界 | J10: 以坑底田为界 | K10: 以埂为界 | L10: 用材林 | M10: 竹 | P10: 仁化县红山镇新白村半岭组集体经济组织 | Q10: 李邦富 | R10: 长期 | S10: 李邦富 | T10: 李邦富 | U10: 长期 | V10: 李为顺
A11: 7 | B11: 李邦仁 | C11: 1 | D11: 11 | E11: 仁化县红山镇新白村 | F11: 杓麻垇产子地窝 | G11: 10.72 | H11: 以天水为界 | I11: 以天水为界 | J11: 以埂为界 | K11: 以窝聂上为界 | L11: 用材林 | M11: 竹 | P11: 仁化县红山镇新白村半岭组集体经济组织 | Q11: 李邦仁 | R11: 2026年1月1日至2095年12月31日 | S11: 李邦仁 | T11: 李邦仁 | U11: 2026年1月1日至2095年12月31日 | V11: =B11 -> 李邦仁
A12: 8 | B12: 李邦仁 | C12: 1 | D12: 11 | E12: 仁化县红山镇新白村 | F12: 梯子岭顶 | G12: 4.47 | H12: 以天水为界 | I12: 以天水为界 | J12: 以窝两边上为界 | K12: 以路为界 | L12: 用材林 | M12: 竹 | P12: 仁化县红山镇新白村半岭组集体经济组织 | Q12: 李邦仁 | S12: 李邦仁 | T12: 李邦仁 | U12: 2026年1月1日至2095年12月31日 | V12: =B12 -> 李邦仁
A13: 9 | B13: 李石芳 | C13: 1 | D13: 6 | E13: 仁化县红山镇新白村 | F13: 钓竿窝屋背 | G13: 7.78 | H13: 以埂为界 | I13: 以埂为界 | J13: 以埂为界 | K13: 以路为界 | L13: 用材林 | M13: 竹 | P13: 仁化县红山镇新白村半岭组集体经济组织 | Q13: 李石芳 | R13: 长期 | S13: 李石芳 | T13: 李石芳 | U13: 长期 | V13: 李为顺
A14: 10 | B14: 李石芳 | C14: 1 | D14: 6 | E14: 仁化县红山镇新白村 | F14: 钓竿窝屋背 | G14: 7.78 | H14: 以埂为界 | I14: 以埂为界 | J14: 以埂为界 | K14: 以路为界 | L14: 用材林 | M14: 竹 | P14: 仁化县红山镇新白村半岭组集体经济组织 | Q14: 李石芳 | R14: 长期 | S14: 李石芳 | T14: 李石芳 | U14: 长期 | V14: 李为顺
A15: 11 | B15: 李石芳 | C15: 1 | D15: 4 | E15: 仁化县红山镇新白村 | F15: 老湖烧炭窝子 | G15: 11.98 | H15: 以路为界 | I15: 以路为界 | J15: 以坑为界 | K15: 以田为界 | L15: 用材林 | M15: 竹 | P15: 仁化县红山镇新白村半岭组集体经济组织 | Q15: 李石芳 | R15: 长期 | S15: 李石芳 | T15: 李石芳 | U15: 长期 | V15: 李为顺
A16: 12 | B16: 李石芳 | C16: 红山1；红城场4 | D16: 1；15 | E16: 仁化县红山镇新白村 | F16: 石角子 | G16: 19.76 | H16: 以天水为界 | I16: 以天水为界 | J16: 以埂为界 | K16: 以窝为界 | L16: 用材林 | M16: 竹 | P16: 仁化县红山镇新白村半岭组集体经济组织 | Q16: 李石芳 | R16: 长期 | S16: 李石芳 | T16: 李石芳 | U16: 长期 | V16: 李为顺
A17: 13 | B17: 李石芳 | C17: 1 | D17: 5、14 | E17: 仁化县红山镇新白村 | F17: 水头垅 | G17: 9.08 | H17: 以路为界 | I17: 以席草塘小埂、坑以下为界 | J17: 以田为界 | K17: 以老路为界 | L17: 用材林 | M17: 竹 | P17: 仁化县红山镇新白村半岭组集体经济组织 | Q17: 李石芳 | R17: 长期 | S17: 李石芳 | T17: 李石芳 | U17: 长期 | V17: 李为顺
A18: 14 | B18: 李石芳 | C18: 1 | D18: 9、14 | E18: 仁化县红山镇新白村 | F18: 松树窝子 | G18: 10.34 | H18: 以埂为界 | I18: 以横路为界 | J18: 以埂为界 | K18: 以公路、田为界 | L18: 用材林 | M18: 竹 | P18: 仁化县红山镇新白村半岭组集体经济组织 | Q18: 李石芳 | R18: 2026年1月1日至2095年12月31日 | S18: 李石芳 | T18: 李石芳 | U18: 2026年1月1日至2095年12月31日 | V18: 李为顺
A19: 15 | B19: 李焕荣 | C19: 1 | D19: 3、4 | E19: 仁化县红山镇新白村 | F19: 车心垅 | G19: 30.16 | H19: 以小路为界 | I19: 以小路为界 | J19: 以窝上至公路为界 | K19: 以埂为界 | L19: 用材林 | M19: 竹 | P19: 仁化县红山镇新白村半岭经济合作社 | Q19: 李焕荣 | R19: 长期 | S19: 李焕荣 | T19: 李焕荣 | U19: 长期 | V19: 李来明
A20: 16 | B20: 李焕荣 | C20: 1 | D20: 3 | E20: 仁化县红山镇新白村 | F20: 石角子 | G20: 14.04 | H20: 以埂为界 | I20: 以坑为界 | J20: 以横路为界 | K20: 以横路为界 | L20: 用材林 | M20: 竹 | P20: 仁化县红山镇新白村半岭经济合作社 | Q20: 李焕荣 | R20: 长期 | S20: 李焕荣 | T20: 李焕荣 | U20: 长期 | V20: 李来明
A21: 17 | B21: 李焕荣 | C21: 1 | D21: 5 | E21: 仁化县红山镇新白村 | F21: 斜垅子 | G21: 10.12 | H21: 以窝为界 | I21: 以天水为界 | J21: 以埂为界 | K21: 以子埂为界 | L21: 用材林 | M21: 竹 | P21: 仁化县红山镇新白村半岭经济合作社 | Q21: 李焕荣 | R21: 长期 | S21: 李焕荣 | T21: 李焕荣 | U21: 长期 | V21: 李来明
A22: 18 | B22: 李焕荣 | C22: 1 | D22: 5、11 | E22: 仁化县红山镇新白村 | F22: 梯子岭 | G22: 37.33 | H22: 以埂为界 | I22: 以天水为界 | J22: 以坑上至埂为界 | K22: 以坑口为界 | L22: 用材林 | M22: 竹 | P22: 仁化县红山镇新白村半岭经济合作社 | Q22: 李焕荣 | R22: 2026年1月1日至2095年12月31日 | S22: 李焕荣 | T22: 李焕荣 | U22: 2026年1月1日至2095年12月31日 | V22: 李来明
A23: 19 | B23: 李焕荣 | C23: 1 | D23: 6 | E23: 仁化县红山镇新白村 | F23: 吊干窝湖糖埂 | G23: 4.25 | H23: 以湖塘路为界 | I23: 以荒田为界 | J23: 以坑路为界 | K23: 以田路为界 | L23: 用材林 | M23: 竹 | P23: 仁化县红山镇新白村半岭经济合作社 | Q23: 李焕荣 | R23: 长期 | S23: 李焕荣 | T23: 李焕荣 | U23: 长期 | V23: 李来明
A24: 20 | B24: 李焕荣 | C24: 1 | D24: 2 | E24: 仁化县红山镇新白村 | F24: 黄竹寨 | G24: 93.16 | H24: 以坑为界 | I24: 以坑为界 | J24: 以天水为界 | K24: 以埂为界 | L24: 用材林 | M24: 竹 | P24: 仁化县红山镇新白村半岭经济合作社 | Q24: 李焕荣 | R24: 长期 | S24: 李焕荣 | T24: 李焕荣 | U24: 长期 | V24: 李来明
A25: 21 | B25: 李焕荣 | C25: 1 | D25: 5 | E25: 仁化县红山镇新白村 | F25: 金竹埂子 | G25: 13.79 | H25: 以坑为界 | I25: 以埂为界 | J25: 以埂为界 | K25: 以屋背为界 | L25: 用材林 | M25: 竹 | P25: 仁化县红山镇新白村半岭经济合作社 | Q25: 李焕荣 | R25: 长期 | S25: 李焕荣 | T25: 李焕荣 | U25: 长期 | V25: 李来明
A26: 22 | B26: 李焕荣 | C26: 4 | D26: 14、15 | E26: 仁化县红山镇新白村 | F26: 麻垇空子 | G26: 60.77 | H26: 以田横路为界 | I26: 以埂路为界 | J26: 以田面为界 | K26: 以埂为界 | L26: 用材林 | M26: 竹 | P26: 仁化县红山镇新白村半岭经济合作社 | Q26: 李焕荣 | R26: 长期 | S26: 李焕荣 | T26: 李焕荣 | U26: 长期 | V26: 李来明
A27: 23 | B27: 李焕荣 | C27: 1 | D27: 9 | E27: 仁化县红山镇新白村 | F27: 石梨头子 | G27: 32.57 | H27: 以埂为界 | I27: 以天水、路为界 | J27: 以埂为界 | K27: 以田为界 | L27: 用材林 | M27: 竹 | P27: 仁化县红山镇新白村半岭经济合作社 | Q27: 李焕荣 | R27: 长期 | S27: 李焕荣 | T27: 李焕荣 | U27: 长期 | V27: 李来明
A28: 24 | B28: 李焕荣 | C28: 1 | D28: 11 | E28: 仁化县红山镇新白村 | F28: 石浆湖垅子 | G28: 4.84 | H28: 以小埂为界 | I28: 以坑为界 | J28: 以窝为界 | K28: 以子埂为界 | L28: 用材林 | M28: 竹 | P28: 仁化县红山镇新白村半岭经济合作社 | Q28: 李焕荣 | R28: 2026年1月1日至2095年12月31日 | S28: 李焕荣 | T28: 李焕荣 | U28: 2026年1月1日至2095年12月31日 | V28: 李来明
A29: 25 | B29: 李焕荣 | C29: 1 | D29: 5 | E29: 仁化县红山镇新白村 | F29: 善梨杵垇子 | G29: 13.56 | H29: 以坳埂为界 | I29: 以埂为界 | J29: 以田为界 | K29: 以埂为界 | L29: 用材林 | M29: 竹 | P29: 仁化县红山镇新白村半岭经济合作社 | Q29: 李焕荣 | R29: 2026年1月1日至2095年12月31日 | S29: 李焕荣 | T29: 李焕荣 | U29: 2026年1月1日至2095年12月31日 | V29: 李来明
A30: 26 | B30: 李焕荣 | C30: 1 | D30: 1 | E30: 仁化县红山镇新白村 | F30: 鬼垇橫岐背 | G30: 37.16 | H30: 以小路埂为界 | I30: 以埂为界 | J30: 以天水为界 | K30: 以大埂为界 | L30: 用材林 | M30: 竹 | P30: 仁化县红山镇新白村半岭经济合作社 | Q30: 李焕荣 | R30: 2026年1月1日至2095年12月31日 | S30: 李焕荣 | T30: 李焕荣 | U30: 2026年1月1日至2095年12月31日 | V30: 李来明
A31: 27 | B31: 李贱城 | C31: 1 | D31: 1 | E31: 仁化县红山镇新白村 | F31: 鬼坳腊斜 | G31: 20.38 | H31: 以半山横路国为界 | I31: 以埂为界 | J31: 以天水为界 | K31: 以埂为界 | L31: 用材林 | M31: 竹 | P31: 仁化县红山镇新白村半岭组集体经济组织 | Q31: 李贱城 | R31: 2026年1月1日至2095年12月31日 | S31: 李贱城 | T31: 李贱城 | U31: 2026年1月1日至2095年12月31日 | V31: =B31 -> 李贱城
A32: 28 | B32: 李贱城 | C32: 1 | D32: 11 | E32: 仁化县红山镇新白村 | F32: 石浆湖垅子 | G32: 7.31 | H32: 以埂为界 | I32: 以天水为界 | J32: 以小埂为界 | K32: 以小埂为界 | L32: 用材林 | M32: 竹 | P32: 仁化县红山镇新白村半岭组集体经济组织 | Q32: 李贱城 | R32: 2026年1月1日至2095年12月31日 | S32: 李贱城 | T32: 李贱城 | U32: 2026年1月1日至2095年12月31日 | V32: =B32 -> 李贱城
A33: 29 | B33: 李贱城 | C33: 1 | D33: 11 | E33: 仁化县红山镇新白村 | F33: 大竹窝 | G33: 10.88 | H33: 以埂为界 | I33: 以埂为界 | J33: 以埂界 | K33: 以窝口界 | L33: 用材林 | M33: 竹 | P33: 仁化县红山镇新白村半岭组集体经济组织 | Q33: 李贱城 | R33: 2026年1月1日至2095年12月31日 | S33: 李贱城 | T33: 李贱城 | U33: 2026年1月1日至2095年12月31日 | V33: =B33 -> 李贱城
A34: 30 | B34: 李新贵 | C34: 1 | D34: 3、4 | E34: 仁化县红山镇新白村 | F34: 伯公背窝子 | G34: 19 | H34: 以天水为界 | I34: 以大岐为界 | J34: 以公路为界 | K34: 以坑为界 | L34: 用材林 | M34: 竹 | P34: 仁化县红山镇新白村半岭组集体经济组织 | Q34: 李新贵 | R34: 长期 | S34: 李新贵 | T34: 李新贵 | U34: 长期 | V34: =B34 -> 李新贵
A35: 31 | B35: 李新贵 | C35: 1 | D35: 6 | F35: 去吊干窝垇坵背 | G35: 4.37 | H35: 以埂为界 | I35: 以埂为界 | J35: 以埂为界 | K35: 以田为界 | L35: 用材林 | M35: 竹 | Q35: 李新贵 | R35: 长期 | S35: 李新贵 | T35: 李新贵 | U35: 长期 | V35: =B35 -> 李新贵
A36: 32 | B36: 李新贵 | C36: 1 | D36: 6 | F36: 去吊干窝纸厂背 | G36: 11.37 | H36: 以横路为界 | I36: 以埂为界 | J36: 以埂为界 | K36: 以大坑为界 | L36: 用材林 | M36: 竹 | Q36: 李新贵 | R36: 长期 | S36: 李新贵 | T36: 李新贵 | U36: 长期 | V36: =B36 -> 李新贵
A37: 33 | B37: 李新贵 | C37: 4 | D37: 14、15、16 | F37: 粪箕窝 | G37: 30.87 | H37: 以埂为界 | I37: 以窝两边上为界 | J37: 以埂为界 | K37: 以横路为界 | L37: 用材林 | M37: 竹 | Q37: 李新贵 | R37: 长期 | S37: 李新贵 | T37: 李新贵 | U37: 长期 | V37: =B37 -> 李新贵
A38: 34 | B38: 李新贵 | C38: 4 | D38: 15 | F38: 长村麻垇子 | G38: 17.96 | H38: 以埂为界 | I38: 以横路为界 | J38: 以横路为界 | K38: 以横路为界 | L38: 用材林 | M38: 竹 | Q38: 李新贵 | R38: 长期 | S38: 李新贵 | T38: 李新贵 | U38: 长期 | V38: =B38 -> 李新贵
A39: 35 | B39: 李新贵 | C39: 红山1；红城场4 | D39: 1；16 | E39: 仁化县红山镇新白村 | F39: 长埂垅子 | G39: 32.68 | H39: 以小埂为界 | I39: 以窝小埂为界 | J39: 以路天水为界 | K39: 以路天水为界 | L39: 用材林 | M39: 竹 | P39: 仁化县红山镇新白村半岭组集体经济组织 | Q39: 李新贵 | R39: 2026年1月1日至2095年12月31日 | S39: 李新贵 | T39: 李新贵 | U39: 2026年1月1日至2095年12月31日 | V39: =B39 -> 李新贵
A40: 36 | B40: 李新贵 | C40: 4 | D40: 14 | F40: 初石垅桃杵垅 | G40: 13.79 | H40: 以埂为界 | I40: 以天水为界 | J40: 以埂下至窝为界 | K40: 以公路为界 | L40: 用材林 | M40: 竹 | Q40: 李新贵 | S40: 李新贵 | T40: 李新贵 | U40: 2026年1月1日至2095年12月31日 | V40: =B40 -> 李新贵
A41: 37 | B41: 李新贵 | C41: 1 | D41: 5 | F41: 杓麻垇大路窝子 | G41: 17.84 | H41: 以大路天水为界 | I41: 以天水为界 | J41: 以窝口为界 | K41: 以埂为界 | L41: 用材林 | M41: 竹 | Q41: 李新贵 | S41: 李新贵 | T41: 李新贵 | U41: 2026年1月1日至2095年12月31日 | V41: =B41 -> 李新贵
A42: 38 | B42: 李新贵 | C42: 4 | D42: 14、16 | F42: 荒田角大坵麻田面山 | G42: 15.12 | H42: 以窝为界 | I42: 以垇为界 | J42: 以埂为界 | K42: 以田为界 | L42: 用材林 | M42: 竹 | Q42: 李新贵 | S42: 李新贵 | T42: 李新贵 | U42: 2026年1月1日至2095年12月31日 | V42: =B42 -> 李新贵
A43: 39 | B43: 仁化县红山镇新白村半岭组集体经济组织 | C43: 1 | D43: 3 | E43: 仁化县红山镇新白村 | F43: 石角子 | G43: 10.01 | H43: 以埂天水为界 | I43: 以埂为界 | J43: 以窝两边上为界 | K43: 以埂为界 | L43: 用材林 | M43: 竹 | P43: 仁化县红山镇新白村半岭组集体经济组织 | Q43: 仁化县红山镇新白村半岭组集体经济组织 | R43: 长期 | S43: 仁化县红山镇新白村半岭组集体经济组织 | T43: 仁化县红山镇新白村半岭组集体经济组织 | U43: 长期
A44: 40 | B44: 仁化县红山镇新白村半岭组集体经济组织 | C44: 4 | D44: 16 | F44: 荒田角 | G44: 93.51 | H44: 以埂为界 | I44: 以埂为界 | J44: 以窝、田为界 | K44: 以埂为界 | L44: 用材林 | M44: 竹 | P44: 仁化县红山镇新白村半岭组集体经济组织 | Q44: 仁化县红山镇新白村半岭组集体经济组织 | R44: 长期 | S44: 仁化县红山镇新白村半岭组集体经济组织 | T44: 仁化县红山镇新白村半岭组集体经济组织 | U44: 长期
A45: 41 | B45: 仁化县红山镇新白村半岭组集体经济组织 | C45: 4 | D45: 14 | F45: 蕉垅 | G45: 12.46 | H45: 以公路为界 | I45: 以窝为界 | J45: 以田为界 | K45: 以窝为界 | L45: 用材林 | M45: 竹 | P45: 仁化县红山镇新白村半岭组集体经济组织 | Q45: 仁化县红山镇新白村半岭组集体经济组织 | R45: 长期 | S45: 仁化县红山镇新白村半岭组集体经济组织 | T45: 仁化县红山镇新白村半岭组集体经济组织 | U45: 长期
A46: 42 | B46: 仁化县红山镇新白村半岭组集体经济组织 | C46: 4 | D46: 14 | F46: 蕉垅 | G46: 27.95 | H46: 以横路为界 | I46: 以埂为界 | J46: 以公路为界 | K46: 以埂为界 | L46: 用材林 | M46: 竹 | P46: 仁化县红山镇新白村半岭组集体经济组织 | Q46: 仁化县红山镇新白村半岭组集体经济组织 | R46: 长期 | S46: 仁化县红山镇新白村半岭组集体经济组织 | T46: 仁化县红山镇新白村半岭组集体经济组织 | U46: 长期
A47: 43 | B47: 李帮英 | C47: 1 | D47: 6 | E47: 仁化县红山镇新白村 | F47: 去吊干窝垇丘下 | G47: 7.78 | H47: 以小埂为界 | I47: 以田为界 | J47: 以垇路为界 | K47: 以小埂坑为界 | L47: 用材林 | M47: 竹 | P47: 仁化县红山镇新白村半岭经济合作社 | Q47: 李帮英 | R47: 长期 | S47: 李帮英 | T47: 李帮英 | U47: 长期
A48: 44 | B48: 李帮英 | C48: 1 | D48: 6 | F48: 吊干窝屋背 | G48: 14.12 | H48: 以小埂到天水为界 | I48: 以天水为界 | J48: 以窝底为界 | K48: 以路埂为界 | L48: 用材林 | M48: 竹 | Q48: 李帮英 | R48: 长期 | S48: 李帮英 | T48: 李帮英 | U48: 长期
A49: 45 | B49: 李帮英 | C49: 1 | D49: 11 | F49: 产子地窝 | G49: 9.81 | H49: 以坳顶为界 | I49: 以坳埂为界 | J49: 以埂为界 | K49: 以窝为界 | L49: 用材林 | M49: 竹 | Q49: 李帮英 | R49: 2026年1月1日至2095年12月31日 | S49: 李帮英 | T49: 李帮英 | U49: 2026年1月1日至2095年12月31日
A51: 以上 宗山林,经工作组与有关人员实地勘查后,现予以公示,实际面积以登记为准，如有不同意见或需要修正,请于公示之日起十五个工作日
A52: (即公示结束日202 年 月 日)内向仁化县不动产登记中心书面反映,逾期此公示即具有法律效力,联系电话:6391162
Q54: 仁化县红山镇人民政府
Q55: 公示日期： 年 月 日

Sheet 杓麻坵组
A1: 广东省林权类不动产登记公示表
A2: 仁化县红山镇新白村杓麻坵组集体经济组织
A3: 序号 | B3: 姓名 (单位名称) | C3: 林班 | D3: 小班 | E3: 林地 座落 | F3: 山名 小名 | G3: 面积 (亩) | H3: 四 至 | L3: 林种 | M3: 树种 | N3: 林龄 | O3: 株数 | P3: 林地权属 | S3: 林木权属 | V3: 原持证人
H4: 东 | I4: 南 | J4: 西 | K4: 北 | P4: 所有权者 | Q4: 使用权者 | R4: 年限 | S4: 所有权者 | T4: 使用权者 | U4: 年限
A5: 1 | B5: 李依群 | C5: 7 | D5: 4 | E5: 仁化县红山镇新白村 | F5: 上高坡 | G5: 83.87 | H5: 以顶为界 | I5: 以埂为界 | J5: 以坑为界 | K5: 以子埂为界 | L5: 用材林 | M5: 竹 | P5: 仁化县红山镇新白村杓麻坵组集体经济组织 | Q5: 李依群 | R5: 从2026年1月1日至2095年12月31日 | S5: 李依群 | T5: 李依群 | U5: 从2026年1月1日至2095年12月31日 | V5: 李依群
A6: 2 | B6: 李炳勋 | C6: 6 | D6: 6 | E6: 仁化县红山镇新白村 | F6: 老虎咬窝 | G6: 126.58 | H6: 以天水山顶为界 | I6: 以埂为界 | J6: 以小路为界 | K6: 以埂为界 | L6: 用材林 | M6: 竹 | P6: 仁化县红山镇新白村杓麻坵组集体经济组织 | Q6: 李炳勋 | R6: 长期 | S6: 李炳勋 | T6: 李炳勋 | U6: 长期 | V6: 李召生
A7: 3 | B7: 李明华 | C7: 2 | D7: 5 | E7: 仁化县红山镇新白村 | F7: 竹山垅 | G7: 18.2 | H7: 以路为界 | I7: 以埂为界 | J7: 以山顶埂为界 | K7: 以岐为界 | L7: 用材林 | M7: 竹 | P7: 仁化县红山镇新白村杓麻坵组集体经济组织 | Q7: 李明华 | R7: 长期 | S7: 李明华 | T7: 李明华 | U7: 长期 | V7: 李余宗
A8: 4 | B8: 李明华 | C8: 6 | D8: 9 | E8: 仁化县红山镇新白村 | F8: 蛇龙排 | G8: 5.31 | H8: 以窝为界 | I8: 以埂为界 | J8: 以屋背为界 | K8: 以埂为界 | L8: 用材林 | M8: 竹 | P8: 仁化县红山镇新白村杓麻坵组集体经济组织 | Q8: 李明华 | R8: 2026年1月1日至2095年12月31日 | S8: 李明华 | T8: 李明华 | U8: 2026年1月1日至2095年12月31日 | V8: 李余宗
A9: 5 | B9: 李明华 | C9: 2 | D9: 5、7 | E9: 仁化县红山镇新白村 | F9: 乌石古 | G9: 4.65 | H9: 以小路为界 | I9: 以两丘荒田以上为界 | J9: 以田为界 | K9: 以田为界 | L9: 用材林 | M9: 竹 | P9: 仁化县红山镇新白村杓麻坵组集体经济组织 | Q9: 李明华 | R9: 2026年1月1日至2095年12月31日 | S9: 李明华 | T9: 李明华 | U9: 2026年1月1日至2095年12月31日 | V9: 李余宗
A10: 6 | B10: 李积浓 | C10: 7 | D10: 4 | E10: 仁化县红山镇新白村 | F10: 大龙子 | G10: 15.3 | H10: 以山顶为界 | I10: 以埂为界 | J10: 以大坑为界 | K10: 以大窝尾为界 | L10: 用材林 | M10: 竹 | P10: 仁化县红山镇新白村杓麻坵组集体经济组织 | Q10: 李积浓 | R10: 长期 | S10: 李积浓 | T10: 李积浓 | U10: 长期 | V10: 李棒真
A11: 7 | B11: 李积浓 | C11: 7 | D11: 4 | E11: 仁化县红山镇新白村 | F11: 大龙子2 | G11: 10.48 | H11: 以小窝上埂为界 | I11: 以窝为界 | J11: 以窝口为界 | K11: 以大坑为界 | L11: 用材林 | M11: 竹 | P11: 仁化县红山镇新白村杓麻坵组集体经济组织 | Q11: 李积浓 | R11: 长期 | S11: 李积浓 | T11: 李积浓 | U11: 长期 | V11: 李棒真
A12: 8 | B12: 李积浓 | C12: 7 | D12: 4 | E12: 仁化县红山镇新白村 | F12: 大龙子3 | G12: 11.54 | H12: 以埂下横路为界 | I12: 以横路为界 | J12: 以窝为界 | K12: 以窝为界 | L12: 用材林 | M12: 竹 | P12: 仁化县红山镇新白村杓麻坵组集体经济组织 | Q12: 李积浓 | R12: 长期 | S12: 李积浓 | T12: 李积浓 | U12: 长期 | V12: 李棒真
A13: 9 | B13: 李积浓 | C13: 7 | D13: 4 | E13: 仁化县红山镇新白村 | F13: 上高岐 | G13: 25.44 | H13: 以窝为界 | I13: 以高陂为界 | J13: 以大丘麻为界 | K13: 以田为界 | L13: 用材林 | M13: 竹 | P13: 仁化县红山镇新白村杓麻坵组集体经济组织 | Q13: 李积浓 | R13: 长期 | S13: 李积浓 | T13: 李积浓 | U13: 长期 | V13: 李棒真
A16: 以上 宗山林,经工作组与有关人员实地勘查后,现予以公示,实际面积以登记为准，如有不同意见或需要修正,请于公示之日起十五个工作日
A17: (即公示结束日202 年 月 日)内向仁化县不动产登记中心书面反映,逾期此公示即具有法律效力,联系电话:6391162
Q19: 仁化县红山镇人民政府
Q20: 公示日期： 年 月 日

Sheet 塘窝组
A1: 广东省林权类不动产登记公示表
A2: 仁化县红山镇新白村塘窝股份经济合作社
A3: 序号 | B3: 姓名 (单位名称) | C3: 林班 | D3: 小班 | E3: 林地 座落 | F3: 山名 小名 | G3: 面积 (亩) | H3: 四 至 | L3: 林种 | M3: 树种 | N3: 林龄 | O3: 株数 | P3: 林地权属 | S3: 林木权属 | V3: 原持证人
H4: 东 | I4: 南 | J4: 西 | K4: 北 | P4: 所有权者 | Q4: 使用权者 | R4: 年限 | S4: 所有权者 | T4: 使用权者 | U4: 年限
A5: 1 | B5: 连学仁 | C5: 4；7 | D5: 13；4 | E5: 仁化县红山镇新白村 | F5: 塘边垅尾宗族山 | G5: 60.04 | H5: 以天水为界 | I5: 以子埂为界 | J5: 以埂为界 | K5: 以天水为界 | L5: 用材林 | M5: 竹 | P5: 仁化县红山镇新白村塘窝股份经济合作社 | Q5: 连学仁 | R5: 从2026年1月1日至2095年1月1日 | S5: 连学仁 | T5: 连学仁 | U5: 从2026年1月1日至2095年1月1日 | V5: =B5 -> 连学仁
A6: 2 | B6: 连学仁 | C6: 6 | D6: 6 | E6: 仁化县红山镇新白村 | F6: 崩江龙粪基窝 | G6: 13.21 | H6: 以阴埂为界 | I6: 以窝为界 | J6: 以埂下至窝边为界 | K6: 以天水为界 | L6: 用材林 | M6: 竹 | P6: 仁化县红山镇新白村塘窝股份经济合作社 | Q6: 连学仁 | R6: 2026年1月1日至2095年12月31日 | S6: 连学仁 | T6: 连学仁 | U6: 2026年1月1日至2095年12月31日 | V6: =B6 -> 连学仁
A7: 3 | B7: 连学仁 | C7: 6 | D7: 6 | E7: 仁化县红山镇新白村 | F7: 崩江坑黄竹垅子 | G7: 18.02 | H7: 以横路为界 | I7: 以窝为界 | J7: 以窝为界 | K7: 以埂为界 | L7: 用材林 | M7: 竹 | P7: 仁化县红山镇新白村塘窝股份经济合作社 | Q7: 连学仁 | R7: 2026年1月1日至2095年12月31日 | S7: 连学仁 | T7: 连学仁 | U7: 2026年1月1日至2095年12月31日 | V7: =B7 -> 连学仁
A8: 4 | B8: 连学仁 | C8: 7 | D8: 4 | E8: 仁化县红山镇新白村 | F8: 塘边垅尾 | G8: 16.26 | H8: 以天水为界 | I8: 以垇为界 | J8: 以子埂为界 | K8: 以顶为界 | L8: 用材林 | M8: 竹 | P8: 仁化县红山镇新白村塘窝股份经济合作社 | Q8: 连学仁 | R8: 2026年1月1日至2095年12月31日 | S8: 连学仁 | T8: 连学仁 | U8: 2026年1月1日至2095年12月31日 | V8: =B8 -> 连学仁
A9: 5 | B9: 连光星 | C9: 6 | D9: 6 | E9: 仁化县红山镇新白村 | F9: 崩江坑 | G9: 53.96 | H9: 以天水为界 | I9: 以埂为界 | J9: 以埂为界 | K9: 以埂上到半山沿横路平至坑上天水为界 | L9: 用材林 | M9: 竹 | P9: 仁化县红山镇新白村塘窝股份经济合作社 | Q9: 连光星 | R9: 2026年1月1日至2095年12月31日 | S9: 连光星 | T9: 连光星 | U9: 2026年1月1日至2095年12月31日 | V9: =B9 -> 连光星
A10: 6 | B10: 连清洪 | C10: 2 | D10: 4 | E10: 仁化县红山镇新白村 | F10: 青光树背 | G10: 41.2 | H10: 以路上至埂为界 | I10: 以坑为界 | J10: 以高石段窝为界 | K10: 以横路至大岐为界 | L10: 用材林 | M10: 竹 | P10: 仁化县红山镇新白村塘窝股份经济合作社 | Q10: 连清洪 | R10: 2026年1月1日至2095年12月31日 | S10: 连清洪 | T10: 连清洪 | U10: 2026年1月1日至2095年12月31日 | V10: =B10 -> 连清洪
A11: 7 | B11: 连青云 | C11: 5 | D11: 4 | E11: 仁化县红山镇新白村 | F11: 青光树背 | G11: 42.99 | H11: 以公路为界 | I11: 以大岐为界 | J11: 以坑为界 | K11: 以埂为界 | L11: 用材林 | M11: 竹 | P11: 仁化县红山镇新白村塘窝股份经济合作社 | Q11: 连青云 | R11: 从2026年1月1日至2095年12月31日 | S11: 连青云 | T11: 连青云 | U11: 从2026年1月1日至2095年12月31日 | V11: =B11 -> 连青云
A12: 8 | B12: 连青云 | C12: 3 | D12: 1 | E12: 仁化县红山镇新白村 | F12: 青光树背 | G12: 1.55 | H12: 以田为界 | I12: 以窝为界 | J12: 以公路为界 | K12: 以窝为界 | L12: 用材林 | M12: 竹 | P12: 仁化县红山镇新白村塘窝股份经济合作社 | Q12: 连青云 | S12: 连青云 | T12: 连青云 | U12: 从2026年1月1日至2095年12月31日 | V12: =B12 -> 连青云
A13: 9 | B13: 连华飞 | C13: 6 | D13: 8 | E13: 仁化县红山镇新白村 | F13: 江西屋场 | G13: 32.46 | H13: 以天水为界； | I13: 以岐埂为界； | J13: 以横路为界； | K13: 以埂为界。 | L13: 用材林 | M13: 竹 | P13: 仁化县红山镇新白村塘窝组集体经济组织 | Q13: 连华飞 | R13: 2026年1月1日至2095年12月31日 | S13: 连华飞 | T13: 连华飞 | U13: 2026年1月1日至2095年12月31日 | V13: 连富昌
A14: 10 | B14: 连华飞 | C14: 6 | D14: 6 | E14: 仁化县红山镇新白村 | F14: 野猪坑 | G14: 20.14 | H14: 以天水为界； | I14: 以坑为界； | J14: 以田为界； | K14: 以埂为界。 | L14: 用材林 | M14: 竹 | P14: 仁化县红山镇新白村塘窝组集体经济组织 | Q14: 连华飞 | R14: 长期 | S14: 连华飞 | T14: 连华飞 | U14: 长期 | V14: 连富昌
A15: 11 | B15: 连庙林 | C15: 6 | D15: 6、8 | E15: 仁化县红山镇新白村 | F15: 野猪坑 | G15: 63.91 | H15: 以窝为界 | I15: 以天水为界 | J15: 以埂为界 | K15: 以荒田为界 | L15: 用材林 | M15: 竹 | P15: 仁化县红山镇新白村塘窝股份经济合作社 | Q15: 连庙林 | R15: 长期 | S15: 连庙林 | T15: 连庙林 | U15: 长期 | V15: 连思昌
A17: 以上 宗山林,经工作组与有关人员实地勘查后,现予以公示,实际面积以登记为准，如有不同意见或需要修正,请于公示之日起十五个工作日
A18: (即公示结束日202 年 月 日)内向仁化县不动产登记中心书面反映,逾期此公示即具有法律效力,联系电话:6391162
Q20: 仁化县红山镇人民政府
Q21: 公示日期： 年 月 日

Sheet 老屋组
A1: 广东省林权类不动产登记公示表
A2: 仁化县红山镇新白村老屋组集体经济组织
A3: 序号 | B3: 姓名 (单位名称) | C3: 林班 | D3: 小班 | E3: 林地 座落 | F3: 山名 小名 | G3: 面积 (亩) | H3: 四 至 | L3: 林种 | M3: 树种 | N3: 林龄 | O3: 株数 | P3: 林地权属 | S3: 林木权属 | V3: 原持证 人
H4: 东 | I4: 南 | J4: 西 | K4: 北 | P4: 所有权者 | Q4: 使用权者 | R4: 年限 | S4: 所有权者 | T4: 使用权者 | U4: 年限
A5: 1 | B5: 李国松 | C5: 5 | D5: 7、8 | E5: 仁化县红山镇新白村 | F5: 鸭公岐 | G5: 28.28 | H5: 以路为界 | I5: 以埂为界 | J5: 以横路埂顶天水为界 | K5: 以坑为界 | L5: 用材林 | M5: 竹 | P5: 仁化县红山镇新白村老屋组集体经济组织 | Q5: 李国松 | R5: 长期 | S5: 李国松 | T5: 李国松 | U5: 长期 | V5: 李永宗
B6: 李贱有 | C6: 7 | D6: 2、3 | E6: 仁化县红山镇新白村 | F6: 溜头垅 | G6: 16 | H6: 以窝为界 | I6: 以埂顶为界 | J6: 以埂为界 | K6: 以小埂为界 | L6: 用材林 | M6: 竹 | P6: 仁化县红山镇新白村老屋组集体经济组织 | Q6: 李贱有 | R6: 2026年1月1日至2095年12月31日 | S6: 李贱有 | T6: 李贱有 | U6: 2026年1月1日至2095年12月31日 | V6: 李贱有
B7: 李军强 | C7: 3 | D7: 2 | E7: 仁化县红山镇新白村 | F7: 大圳子 | G7: 43.67 | H7: 以坑、公路为界 | I7: 以坑大石头上埂为界 | J7: 以小埂为界 | K7: 以坑为界 | L7: 用材林 | M7: 竹 | P7: 仁化县红山镇新白村老屋组集体经济组织 | Q7: 李军强 | R7: 长期 | S7: 李军强 | T7: 李军强 | U7: 长期 | V7: 李国伟
B8: 李永能 | C8: 7 | D8: 3 | E8: 仁化县红山镇新白村 | F8: 高坡 | G8: 15.52 | H8: 以埂为界 | I8: 以天水为界 | J8: 以埂为界 | K8: 以大坑为界 | L8: 用材林 | M8: 竹 | P8: 仁化县红山镇新白村老屋经济合作社 | Q8: 李永能 | R8: 2026年1月1日至2095年12月31日 | S8: 李永能 | T8: 李永能 | U8: 2026年1月1日至2095年12月31日 | V8: 李林双
B9: 李永强 | C9: 5 | D9: 4 | E9: 仁化县红山镇新白村 | F9: 锡坑空 | G9: 8.64 | H9: 以坑为界 | I9: 以路坑为界 | J9: 以阴埂为界 | K9: 以埂为界 | L9: 用材林 | M9: 竹 | P9: 仁化县红山镇新白村老屋经济合作社 | Q9: 李永强 | R9: 2026年1月1日至2095年12月31日 | S9: 李永强 | T9: 李永强 | U9: 2026年1月1日至2095年12月31日 | V9: 李永强
B10: 李永强 | C10: 7 | D10: 3、4 | F10: 坑空子 | G10: 39.27 | H10: 以埂窝尾天水为界 | I10: 以埂窝尾天水为界 | J10: 以窝聂为界 | K10: 以坑为界 | L10: 用材林 | M10: 竹 | Q10: 李永强 | S10: 李永强 | T10: 李永强 | V10: 李永强
B11: 李永强 | C11: 7 | D11: 3 | F11: 山叉坳 | G11: 5.08 | H11: 以窝为界 | I11: 以埂为界 | J11: 以窝口为界 | K11: 以埂为界 | L11: 用材林 | M11: 竹 | Q11: 李永强 | R11: 长期 | S11: 李永强 | T11: 李永强 | U11: 长期 | V11: 李永强
A13: 以上 宗山林,经工作组与有关人员实地勘查后,现予以公示,实际面积以登记为准，如有不同意见或需要修正,请于公示之日起十五个工作日
A14: (即公示结束日202 年 月 日)内向仁化县不动产登记中心书面反映,逾期此公示即具有法律效力,联系电话:6391162
Q16: 仁化县红山镇人民政府
Q17: 公示日期： 年 月 日

Sheet 新山村伍渡组
A1: 广东省林权类不动产登记公示表
A2: 仁化县红山镇新山村伍渡经济合作社
A3: 序号 | B3: 姓名 (单位名称) | C3: 林班 | D3: 小班 | E3: 林地 座落 | F3: 山名 小名 | G3: 面积 (亩) | H3: 四 至 | L3: 林种 | M3: 树种 | N3: 林龄 | O3: 株数 | P3: 林地权属 | S3: 林木权属 | V3: 原持 证人
H4: 东 | I4: 南 | J4: 西 | K4: 北 | P4: 所有权者 | Q4: 使用权者 | R4: 年限 | S4: 所有权者 | T4: 使用权者 | U4: 年限
A5: 1 | B5: 袁永华、袁永富、袁富清 | C5: 5 | D5: 7 | E5: 仁化县红山镇新山村 | F5: 腊里石 | G5: 155.75 | H5: 以公路为界 | I5: 以埂为界 | J5: 以天水为界 | K5: 以埂为界 | L5: 用材林 | M5: 竹 | P5: 仁化县红山镇新山村伍渡经济合作社 | Q5: 袁永华、袁永富、袁富清 | R5: 从2026年1月1日至2095年12月31日 | S5: 袁永华、袁永富、袁富清 | T5: 袁永华、袁永富、袁富清 | U5: 从2026年1月1日至2095年12月31日 | V5: =Q5 -> 袁永华、袁永富、袁富清
A6: 2 | B6: 袁国森 | C6: 5 | D6: 7、8 | E6: 仁化县红山镇新山村 | F6: 腊里石 | G6: 92.54 | H6: 以横路为界 | I6: 以埂为界 | J6: 以天水为界 | K6: 以埂为界 | L6: 用材林 | M6: 竹 | P6: 仁化县红山镇新山村伍渡经济合作社 | Q6: 袁国森 | R6: 长期 | S6: 袁国森 | T6: 袁国森 | U6: 长期 | V6: =Q6 -> 袁国森
A7: 以上 宗山林,经工作组与有关人员实地勘查后,现予以公示,实际面积以登记为准，如有不同意见或需要修正,请于公示之日起十五个工作日
A8: (即公示结束日202 年 月 日)内向仁化县不动产登记中心书面反映,逾期此公示即具有法律效力,联系电话:6391162
Q10: 仁化县红山镇人民政府
Q11: 公示日期： 年 月 日
